Workbook

Sheet Índice sitio Web
B1: INSTITUTO NACIONAL DE ESTADÍSTICA Y CENSOS
B3: Encuesta Continua de Empleo
B4: Principales indicadores interanuales del mercado laboral costarricense EFM 2022
B6: C1 total | C6: Costa Rica: Población nacional según indicadores generales de la condición de actividad
B7: C1 urbano | C7: Costa Rica zona urbana: Población nacional según indicadores generales de la condición de actividad
B8: C1 rural | C8: Costa Rica zona rural: Población nacional según indicadores generales de la condición de actividad
B9: C1 hombre | C9: Costa Rica hombres: Población nacional según indicadores generales de la condición de actividad
B10: C1 mujer | C10: Costa Rica mujeres: Población nacional según indicadores generales de la condición de actividad
B12: C2 total | C12: Costa Rica: Población ocupada según características del empleo
B13: C2 urbano | C13: Costa Rica zona urbana: Población ocupada según características del empleo
B14: C2 rural | C14: Costa Rica zona rural: Población ocupada según características del empleo
B15: C2 hombre | C15: Costa Rica hombres: Población ocupada según características del empleo
B16: C2 mujer | C16: Costa Rica mujeres: Población ocupada según características del empleo
B18: C3 total | C18: Costa Rica: Población ocupada según condición del empleo de las personas asalariadas e independientes
B19: C3 urbano | C19: Costa Rica zona urbana: Población ocupada según condición del empleo de las personas asalariadas e independientes
... B28: C4 mujer | C28: Costa Rica mujeres: Promedio del ingreso mensual en el empleo principal según características del empleo
B29: Fuente: INEC-Costa Rica. Encuesta Continua de Empleo (ECE), 2022.

Sheet C1 total
A1: Cuadro 1
A2: Costa Rica: Población nacional según indicadores generales de la condición de actividad
A3: I Trimestre 2022 | J3: Mismo trimestre año anterior
A4: Indicadores generales | B4: I 2022 | C4: Variación Interanual | E4: Resultado de la prueba de significancia | F4: Revisión totales y dif | H4: Para boletín | J4: Estimación | K4: Intervalo de confianza al 95%
B5: Ene - Mar | C5: Diferencia | D5: % | H5: Q | K5: Inferior | L5: Superior
A7: 1. Población total | B7: 5192543 | C7: =B7-J7 -> 50348 | D7: =C7/J7*100 -> 0.97911495 | E7: =IF(B7<K7,-1,IF(B7>L7,1,0)) -> 0 | J7: 5142195 | K7: 4956408.9 | L7: 5327981.1
A9: 1.1 Grupo de edad | B9: 5192543 | C9: =B9-J9 -> 50348 | D9: =C9/J9*100 -> 0.97911495 | E9: =IF(B9<K9,-1,IF(B9>L9,1,0)) -> 0 | F9: =+B9-F10 -> 0 | G9: =+C9-G10 -> 0 | J9: 5142195 | K9: 4956408.9 | L9: 5327981.1
A10: De 0 a 14 años | B10: 1111585 | C10: =B10-J10 -> -428 | D10: =C10/J10*100 -> -0.038488759 | E10: =IF(B10<K10,-1,IF(B10>L10,1,0)) -> 0 | F10: =SUM(B10:B16) -> 5192543 | G10: =SUM(C10:C16) -> 50348 | J10: 1112013 | K10: 1037816.8 | L10: 1186209.2
A11: De 15 a 24 años | B11: 782852 | C11: =B11-J11 -> -28492 | D11: =C11/J11*100 -> -3.511704 | E11: =IF(B11<K11,-1,IF(B11>L11,1,0)) -> 0 | J11: 811344 | K11: 751201.69 | L11: 871486.31
A12: De 25 a 34 años | B12: 722535 | C12: =B12-J12 -> -2573 | D12: =C12/J12*100 -> -0.35484369 | E12: =IF(B12<K12,-1,IF(B12>L12,1,0)) -> 0 | J12: 725108 | K12: 673685.54 | L12: 776530.46
A13: De 35 a 44 años | B13: 722960 | C13: =B13-J13 -> 23560 | D13: =C13/J13*100 -> 3.3686017 | E13: =IF(B13<K13,-1,IF(B13>L13,1,0)) -> 0 | J13: 699400 | K13: 651769.66 | L13: 747030.34
A14: De 45 a 59 años | B14: 904235 | C14: =B14-J14 -> -399 | D14: =C14/J14*100 -> -0.044106235 | E14: =IF(B14<K14,-1,IF(B14>L14,1,0)) -> 0 | J14: 904634 | K14: 859015.54 | L14: 950252.46
A15: De 60 años o más | B15: 946279 | C15: =B15-J15 -> 59158 | D15: =C15/J15*100 -> 6.6685379 | E15: =IF(B15<K15,-1,IF(B15>L15,1,0)) -> 0 | J15: 887121 | K15: 824704.65 | L15: 949537.35
A16: No especificado | B16: 2097 | C16: =B16-J16 -> -478 | D16: =C16/J16*100 -> -18.563107 | E16: =IF(B16<K16,-1,IF(B16>L16,1,0)) -> 0 | J16: 2575 | K16: 0 | L16: 5163.2324
A18: 2. Población de 15 años y más | B18: 4080958 | C18: =B18-J18 -> 50776 | D18: =C18/J18*100 -> 1.2598935 | E18: =IF(B18<K18,-1,IF(B18>L18,1,0)) -> 0 | J18: 4030182 | K18: 3886412.1 | L18: 4173951.9
A20: 2.1 Fuerza de trabajo | B20: 2432303 | C20: =B20-J20 -> -18050 | D20: =C20/J20*100 -> -0.73662856 | E20: =IF(B20<K20,-1,IF(B20>L20,1,0)) -> 0 | F20: =+B20-F21 -> 0 | G20: =+C20-G21 -> 0 | H20: =+B20/1000000 -> 2.432303 | I20: =+C20/1000 -> -18.05 | J20: 2450353 | K20: 2335124.7 | L20: 2565581.3
A21: Ocupada | B21: 2102076 | C21: =B21-J21 -> 109722 | D21: =C21/J21*100 -> 5.5071538 | E21: =IF(B21<K21,-1,IF(B21>L21,1,0)) -> 1 | F21: =SUM(B21:B22) -> 2432303 | G21: =SUM(C21:C22) -> -18050 | H21: =+B21/1000000 -> 2.102076 | I21: =+C21/1000 -> 109.722 | J21: 1992354 | K21: 1899170.2 | L21: 2085537.8
A22: Desempleada | B22: 330227 | C22: =B22-J22 -> -127772 | D22: =C22/J22*100 -> -27.897878 | E22: =IF(B22<K22,-1,IF(B22>L22,1,0)) -> -1 | H22: =+B22/1000 -> 330.227 | I22: =+C22/1000 -> -127.772 | J22: 457999 | K22: 408212.31 | L22: 507785.69
A24: 2.2 Fuera de la fuerza de trabajo | B24: 1648655 | C24: =B24-J24 -> 68826 | D24: =C24/J24*100 -> 4.3565474 | E24: =IF(B24<K24,-1,IF(B24>L24,1,0)) -> 1 | H24: =+B24/1000000 -> 1.648655 | I24: =+C24/1000 -> 68.826 | J24: 1579829 | K24: 1512892.3 | L24: 1646765.7
A26: 3. Población ocupada1/ | B26: 2102076 | C26: =B26-J26 -> 109722 | D26: =C26/J26*100 -> 5.5071538 | E26: =IF(B26<K26,-1,IF(B26>L26,1,0)) -> 1 | J26: 1992354 | K26: 1899170.2 | L26: 2085537.8
A28: 3.1 Grupo de edad | B28: 2102076 | C28: =B28-J28 -> 109722 | D28: =C28/J28*100 -> 5.5071538 | E28: =IF(B28<K28,-1,IF(B28>L28,1,0)) -> 1 | F28: =+B28-F29 -> 0 | G28: =+C28-G29 -> 0 | J28: 1992354 | K28: 1899170.2 | L28: 2085537.8
A29: De 15 a 24 años | B29: 223795 | C29: =B29-J29 -> 3716 | D29: =C29/J29*100 -> 1.6884846 | E29: =IF(B29<K29,-1,IF(B29>L29,1,0)) -> 0 | F29: =SUM(B29:B34) -> 2102076 | G29: =SUM(C29:C34) -> 109722 | J29: 220079 | K29: 193950.1 | L29: 246207.9
A30: De 25 a 34 años | B30: 509113 | C30: =B30-J30 -> 22894 | D30: =C30/J30*100 -> 4.7085778 | E30: =IF(B30<K30,-1,IF(B30>L30,1,0)) -> 0 | J30: 486219 | K30: 447271.78 | L30: 525166.22
A31: De 35 a 44 años | B31: 537517 | C31: =B31-J31 -> 32485 | D31: =C31/J31*100 -> 6.4322657 | E31: =IF(B31<K31,-1,IF(B31>L31,1,0)) -> 0 | J31: 505032 | K31: 465679.28 | L31: 544384.72
A32: De 45 a 59 años | B32: 608791 | C32: =B32-J32 -> 15663 | D32: =C32/J32*100 -> 2.6407453 | E32: =IF(B32<K32,-1,IF(B32>L32,1,0)) -> 0 | J32: 593128 | K32: 553911.9 | L32: 632344.1
A33: De 60 años o más | B33: 222233 | C33: =B33-J33 -> 34795 | D33: =C33/J33*100 -> 18.563472 | E33: =IF(B33<K33,-1,IF(B33>L33,1,0)) -> 1 | J33: 187438 | K33: 164916.26 | L33: 209959.74
A34: No especificado | B34: 627 | C34: =B34-J34 -> 169 | D34: =C34/J34*100 -> 36.899563 | E34: =IF(B34<K34,-1,IF(B34>L34,1,0)) -> 0 | J34: 458 | K34: 0 | L34: 1030.8896
A36: 3.2 Condición de aseguramiento2/ | B36: 2102076 | C36: =B36-J36 -> 109722 | D36: =C36/J36*100 -> 5.5071538 | E36: =IF(B36<K36,-1,IF(B36>L36,1,0)) -> 1 | F36: =+B36-F37 -> 0 | G36: =+C36-G37 -> 0 | J36: 1992354 | K36: 1899170.2 | L36: 2085537.8
A37: No tiene seguro por trabajo | B37: 618977 | C37: =B37-J37 -> -20671 | D37: =C37/J37*100 -> -3.2316211 | E37: =IF(B37<K37,-1,IF(B37>L37,1,0)) -> 0 | F37: =SUM(B37:B38) -> 2102076 | G37: =SUM(C37:C38) -> 109722 | J37: 639648 | K37: 599321.23 | L37: 679974.77
A38: Tiene seguro por trabajo | B38: 1483099 | C38: =B38-J38 -> 130393 | D38: =C38/J38*100 -> 9.6394191 | E38: =IF(B38<K38,-1,IF(B38>L38,1,0)) -> 1 | J38: 1352706 | K38: 1276919.2 | L38: 1428492.8
A40: 3.3 Nivel de educación3/ | B40: 2102076 | C40: =B40-J40 -> 109722 | D40: =C40/J40*100 -> 5.5071538 | E40: =IF(B40<K40,-1,IF(B40>L40,1,0)) -> 1 | F40: =+B40-F41 -> 0 | G40: =+C40-G41 -> 0 | J40: 1992354 | K40: 1899170.2 | L40: 2085537.8
A41: Primaria incompleta o menos | B41: 170277 | C41: =B41-J41 -> -12067 | D41: =C41/J41*100 -> -6.6177116 | E41: =IF(B41<K41,-1,IF(B41>L41,1,0)) -> 0 | F41: =SUM(B41:B47) -> 2102076 | G41: =SUM(C41:C47) -> 109722 | J41: 182344 | K41: 160162.7 | L41: 204525.3
A42: Primaria completa | B42: 482433 | C42: =B42-J42 -> 26216 | D42: =C42/J42*100 -> 5.7463882 | E42: =IF(B42<K42,-1,IF(B42>L42,1,0)) -> 0 | J42: 456217 | K42: 422479.6 | L42: 489954.4
A43: Secundaria incompleta | B43: 456393 | C43: =B43-J43 -> -717 | D43: =C43/J43*100 -> -0.15685502 | E43: =IF(B43<K43,-1,IF(B43>L43,1,0)) -> 0 | J43: 457110 | K43: 417265.62 | L43: 496954.38
A44: Secundaria completa | B44: 392732 | C44: =B44-J44 -> 55120 | D44: =C44/J44*100 -> 16.326434 | E44: =IF(B44<K44,-1,IF(B44>L44,1,0)) -> 1 | J44: 337612 | K44: 302830.07 | L44: 372393.93
A45: Universitario sin título | B45: 115611 | C45: =B45-J45 -> 6153 | D45: =C45/J45*100 -> 5.6213342 | E45: =IF(B45<K45,-1,IF(B45>L45,1,0)) -> 0 | J45: 109458 | K45: 89505.284 | L45: 129410.72
A46: Universitario con título | B46: 483862 | C46: =B46-J46 -> 37562 | D46: =C46/J46*100 -> 8.4163119 | E46: =IF(B46<K46,-1,IF(B46>L46,1,0)) -> 0 | J46: 446300 | K46: 399494.21 | L46: 493105.79
A47: No especificado | B47: 768 | C47: =B47-J47 -> -2545 | D47: =C47/J47*100 -> -76.818593 | E47: =IF(B47<K47,-1,IF(B47>L47,1,0)) -> 0 | J47: 3313 | K47: 0 | L47: 7074.688
A49: 3.4 Búsqueda para cambiar de trabajo4/ | B49: 2102076 | C49: =B49-J49 -> 109722 | D49: =C49/J49*100 -> 5.5071538 | E49: =IF(B49<K49,-1,IF(B49>L49,1,0)) -> 1 | F49: =+B49-F50 -> 0 | G49: =+C49-G50 -> 0 | J49: 1992354 | K49: 1899170.2 | L49: 2085537.8
A50: Ocupado que no busca cambiar de trabajo | B50: 1922368 | C50: =B50-J50 -> 170575 | D50: =C50/J50*100 -> 9.7371664 | E50: =IF(B50<K50,-1,IF(B50>L50,1,0)) -> 1 | F50: =SUM(B50:B51) -> 2102076 | G50: =SUM(C50:C51) -> 109722 | J50: 1751793 | K50: 1664259.1 | L50: 1839326.9
...

Sheet C1 urbano
A1: Cuadro 1.1
A2: Costa Rica zona urbana: Población nacional según indicadores generales de la condición de actividad
A3: =+'C1 total'!A3:E3 -> I Trimestre 2022 | J3: Mismo trimestre año anterior
A4: Indicadores generales | B4: =+'C1 total'!B4 -> I 2022 | C4: Variación Interanual | E4: Resultado de la prueba de significancia | F4: Revisión totales y dif | H4: Para boletín | J4: Estimación | K4: Intervalo de confianza al 95%
B5: =+'C1 total'!B5 -> Ene - Mar | C5: Diferencia | D5: % | H5: Q | K5: Inferior | L5: Superior
A7: 1. Población total urbana | B7: 3765104 | C7: =B7-J7 -> 35017 | D7: =C7/J7*100 -> 0.93877167 | E7: =IF(B7<K7,-1,IF(B7>L7,1,0)) -> 0 | J7: 3730087 | K7: 3549187.3 | L7: 3910986.7
A9: 1.1 Grupo de edad | B9: 3765104 | C9: =B9-J9 -> 35017 | D9: =C9/J9*100 -> 0.93877167 | E9: =IF(B9<K9,-1,IF(B9>L9,1,0)) -> 0 | F9: =+B9-F10 -> 0 | G9: =+C9-G10 -> 0 | J9: 3730087 | K9: 3549187.3 | L9: 3910986.7
A10: De 0 a 14 años | B10: 768052 | C10: =B10-J10 -> -542 | D10: =C10/J10*100 -> -0.070518375 | E10: =IF(B10<K10,-1,IF(B10>L10,1,0)) -> 0 | F10: =SUM(B10:B16) -> 3765104 | G10: =SUM(C10:C16) -> 35017 | J10: 768594 | K10: 697431.48 | L10: 839756.52
A11: De 15 a 24 años | B11: 549879 | C11: =B11-J11 -> -28688 | D11: =C11/J11*100 -> -4.9584577 | E11: =IF(B11<K11,-1,IF(B11>L11,1,0)) -> 0 | J11: 578567 | K11: 519961.48 | L11: 637172.52
A12: De 25 a 34 años | B12: 535090 | C12: =B12-J12 -> 10415 | D12: =C12/J12*100 -> 1.9850384 | E12: =IF(B12<K12,-1,IF(B12>L12,1,0)) -> 0 | J12: 524675 | K12: 474775.87 | L12: 574574.13
A13: De 35 a 44 años | B13: 526877 | C13: =B13-J13 -> 15127 | D13: =C13/J13*100 -> 2.9559355 | E13: =IF(B13<K13,-1,IF(B13>L13,1,0)) -> 0 | J13: 511750 | K13: 465435.74 | L13: 558064.26
A14: De 45 a 59 años | B14: 660034 | C14: =B14-J14 -> 540 | D14: =C14/J14*100 -> 0.081880957 | E14: =IF(B14<K14,-1,IF(B14>L14,1,0)) -> 0 | J14: 659494 | K14: 616106.46 | L14: 702881.54
A15: De 60 años o más | B15: 724038 | C15: =B15-J15 -> 38726 | D15: =C15/J15*100 -> 5.6508568 | E15: =IF(B15<K15,-1,IF(B15>L15,1,0)) -> 0 | J15: 685312 | K15: 624115.35 | L15: 746508.65
A16: No especificado | B16: 1134 | C16: =B16-J16 -> -561 | D16: =C16/J16*100 -> -33.097345 | E16: 0 | J16: 1695 | K16: 0 | L16: 4060.9705
A18: 2. Población de 15 años y más | B18: 2997052 | C18: =B18-J18 -> 35559 | D18: =C18/J18*100 -> 1.2007119 | E18: =IF(B18<K18,-1,IF(B18>L18,1,0)) -> 0 | J18: 2961493 | K18: 2820872.2 | L18: 3102113.8
A20: 2.1 Fuerza de trabajo | B20: 1817490 | C20: =B20-J20 -> -15213 | D20: =C20/J20*100 -> -0.8300854 | E20: =IF(B20<K20,-1,IF(B20>L20,1,0)) -> 0 | F20: =+B20-F21 -> 0 | G20: =+C20-G21 -> 0 | H20: =+B20/1000000 -> 1.81749 | I20: =+C20/1000 -> -15.213 | J20: 1832703 | K20: 1719992.6 | L20: 1945413.4
A21: Ocupada | B21: 1566482 | C21: =B21-J21 -> 98346 | D21: =C21/J21*100 -> 6.6986982 | E21: =IF(B21<K21,-1,IF(B21>L21,1,0)) -> 1 | F21: =SUM(B21:B22) -> 1817490 | G21: =SUM(C21:C22) -> -15213 | H21: =+B21/1000000 -> 1.566482 | I21: =+C21/1000 -> 98.346 | J21: 1468136 | K21: 1377610.3 | L21: 1558661.7
A22: Desempleada | B22: 251008 | C22: =B22-J22 -> -113559 | D22: =C22/J22*100 -> -31.149007 | E22: =IF(B22<K22,-1,IF(B22>L22,1,0)) -> -1 | H22: =+B22/1000 -> 251.008 | I22: =+C22/1000 -> -113.559 | J22: 364567 | K22: 315441.1 | L22: 413692.9
A24: 2.2 Fuera de la fuerza de trabajo | B24: 1179562 | C24: =B24-J24 -> 50772 | D24: =C24/J24*100 -> 4.4979137 | E24: =IF(B24<K24,-1,IF(B24>L24,1,0)) -> 0 | H24: =+B24/1000000 -> 1.179562 | J24: 1128790 | K24: 1064216.4 | L24: 1193363.6
A26: 3. Población ocupada1/ | B26: 1566482 | C26: =B26-J26 -> 98346 | D26: =C26/J26*100 -> 6.6986982 | E26: =IF(B26<K26,-1,IF(B26>L26,1,0)) -> 1 | J26: 1468136 | K26: 1377610.3 | L26: 1558661.7
A28: 3.1 Grupo de edad | B28: 1566482 | C28: =B28-J28 -> 98346 | D28: =C28/J28*100 -> 6.6986982 | E28: =IF(B28<K28,-1,IF(B28>L28,1,0)) -> 1 | F28: =+B28-F29 -> 0 | G28: =+C28-G29 -> 0 | J28: 1468136 | K28: 1377610.3 | L28: 1558661.7
A29: De 15 a 24 años | B29: 161879 | C29: =B29-J29 -> 6111 | D29: =C29/J29*100 -> 3.9231421 | E29: =IF(B29<K29,-1,IF(B29>L29,1,0)) -> 0 | F29: =SUM(B29:B34) -> 1566482 | G29: =SUM(C29:C34) -> 98346 | J29: 155768 | K29: 130685.31 | L29: 180850.69
A30: De 25 a 34 años | B30: 385278 | C30: =B30-J30 -> 27938 | D30: =C30/J30*100 -> 7.8183243 | E30: =IF(B30<K30,-1,IF(B30>L30,1,0)) -> 0 | J30: 357340 | K30: 319572.64 | L30: 395107.36
A31: De 35 a 44 años | B31: 402290 | C31: =B31-J31 -> 21129 | D31: =C31/J31*100 -> 5.5433268 | E31: =IF(B31<K31,-1,IF(B31>L31,1,0)) -> 0 | J31: 381161 | K31: 342900.71 | L31: 419421.29
A32: De 45 a 59 años | B32: 455028 | C32: =B32-J32 -> 17398 | D32: =C32/J32*100 -> 3.9755044 | E32: =IF(B32<K32,-1,IF(B32>L32,1,0)) -> 0 | J32: 437630 | K32: 400187.88 | L32: 475072.12
A33: De 60 años o más | B33: 161944 | C33: =B33-J33 -> 25825 | D33: =C33/J33*100 -> 18.97237 | E33: =IF(B33<K33,-1,IF(B33>L33,1,0)) -> 1 | J33: 136119 | K33: 114567.42 | L33: 157670.58
A34: No especificado | B34: 63 | C34: =B34-J34 -> -55 | D34: =C34/J34*100 -> -46.610169 | E34: 0 | J34: 118 | K34: - | L34: -
A36: 3.2 Condición de aseguramiento2/ | B36: 1566482 | C36: =B36-J36 -> 98346 | D36: =C36/J36*100 -> 6.6986982 | E36: =IF(B36<K36,-1,IF(B36>L36,1,0)) -> 1 | F36: =+B36-F37 -> 0 | G36: =+C36-G37 -> 0 | J36: 1468136 | K36: 1377610.3 | L36: 1558661.7
A37: No tiene seguro por trabajo | B37: 423239 | C37: =B37-J37 -> -20060 | D37: =C37/J37*100 -> -4.5251625 | E37: =IF(B37<K37,-1,IF(B37>L37,1,0)) -> 0 | F37: =SUM(B37:B38) -> 1566482 | G37: =SUM(C37:C38) -> 98346 | J37: 443299 | K37: 405624.82 | L37: 480973.18
A38: Tiene seguro por trabajo | B38: 1143243 | C38: =B38-J38 -> 118406 | D38: =C38/J38*100 -> 11.553642 | E38: =IF(B38<K38,-1,IF(B38>L38,1,0)) -> 1 | J38: 1024837 | K38: 950575.5 | L38: 1099098.5
A40: 3.3 Nivel de educación3/ | B40: 1566482 | C40: =B40-J40 -> 98346 | D40: =C40/J40*100 -> 6.6986982 | E40: =IF(B40<K40,-1,IF(B40>L40,1,0)) -> 1 | F40: =+B40-F41 -> 0 | G40: =+C40-G41 -> 0 | J40: 1468136 | K40: 1377610.3 | L40: 1558661.7
A41: Primaria incompleta o menos | B41: 87678 | C41: =B41-J41 -> -15885 | D41: =C41/J41*100 -> -15.33849 | E41: =IF(B41<K41,-1,IF(B41>L41,1,0)) -> 0 | F41: =SUM(B41:B47) -> 1566482 | G41: =SUM(C41:C47) -> 98346 | J41: 103563 | K41: 83022.526 | L41: 124103.47
A42: Primaria completa | B42: 306135 | C42: =B42-J42 -> 37675 | D42: =C42/J42*100 -> 14.033748 | E42: =IF(B42<K42,-1,IF(B42>L42,1,0)) -> 1 | J42: 268460 | K42: 238326.42 | L42: 298593.58
A43: Secundaria incompleta | B43: 355414 | C43: =B43-J43 -> 9184 | D43: =C43/J43*100 -> 2.652572 | E43: =IF(B43<K43,-1,IF(B43>L43,1,0)) -> 0 | J43: 346230 | K43: 307380.14 | L43: 385079.86
A44: Secundaria completa | B44: 311489 | C44: =B44-J44 -> 45732 | D44: =C44/J44*100 -> 17.208201 | E44: =IF(B44<K44,-1,IF(B44>L44,1,0)) -> 1 | J44: 265757 | K44: 231927.55 | L44: 299586.45
A45: Universitario sin título | B45: 93515 | C45: =B45-J45 -> 3522 | D45: =C45/J45*100 -> 3.9136377 | E45: =IF(B45<K45,-1,IF(B45>L45,1,0)) -> 0 | J45: 89993 | K45: 70349.747 | L45: 109636.25
A46: Universitario con título | B46: 411483 | C46: =B46-J46 -> 20095 | D46: =C46/J46*100 -> 5.1342913 | E46: =IF(B46<K46,-1,IF(B46>L46,1,0)) -> 0 | J46: 391388 | K46: 345269.25 | L46: 437506.75
A47: No especificado | B47: 768 | C47: =B47-J47 -> -1977 | D47: =C47/J47*100 -> -72.021858 | E47: 0 | J47: 2745 | K47: 0 | L47: 6483.5336
A49: 3.4 Búsqueda para cambiar de trabajo4/ | B49: 1566482 | C49: =B49-J49 -> 98346 | D49: =C49/J49*100 -> 6.6986982 | E49: =IF(B49<K49,-1,IF(B49>L49,1,0)) -> 1 | F49: =+B49-F50 -> 0 | G49: =+C49-G50 -> 0 | J49: 1468136 | K49: 1377610.3 | L49: 1558661.7
A50: Ocupado que no busca cambiar de trabajo | B50: 1441109 | C50: =B50-J50 -> 154418 | D50: =C50/J50*100 -> 12.001172 | E50: =IF(B50<K50,-1,IF(B50>L50,1,0)) -> 1 | F50: =SUM(B50:B51) -> 1566482 | G50: =SUM(C50:C51) -> 98346 | J50: 1286691 | K50: 1201426.8 | L50: 1371955.2
...

Sheet C1 rural
A1: Cuadro 1.2
A2: Costa Rica zona rural: Población nacional según indicadores generales de la condición de actividad
A3: =+'C1 urbano'!A3:E3 -> I Trimestre 2022 | J3: Mismo trimestre año anterior
A4: Indicadores generales | B4: =+'C1 urbano'!B4 -> I 2022 | C4: Variación Interanual | E4: Resultado de la prueba de significancia | F4: Revisión totales y dif | H4: Para boletín | J4: Estimación | K4: Intervalo de confianza al 95%
B5: =+'C1 urbano'!B5 -> Ene - Mar | C5: Diferencia | D5: % | H5: Q | K5: Inferior | L5: Superior
A7: 1. Población total rural | B7: 1427439 | C7: =B7-J7 -> 15331 | D7: =C7/J7*100 -> 1.0856818 | E7: =IF(B7<K7,-1,IF(B7>L7,1,0)) -> 0 | J7: 1412108 | K7: 1369778.9 | L7: 1454437.1
A9: 1.1 Grupo de edad | B9: 1427439 | C9: =B9-J9 -> 15331 | D9: =C9/J9*100 -> 1.0856818 | E9: =IF(B9<K9,-1,IF(B9>L9,1,0)) -> 0 | F9: =+B9-F10 -> 0 | G9: =+C9-G10 -> 0 | J9: 1412108 | K9: 1369778.9 | L9: 1454437.1
A10: De 0 a 14 años | B10: 343533 | C10: =B10-J10 -> 114 | D10: =C10/J10*100 -> 0.033195601 | E10: =IF(B10<K10,-1,IF(B10>L10,1,0)) -> 0 | F10: =SUM(B10:B16) -> 1427439 | G10: =SUM(C10:C16) -> 15331 | J10: 343419 | K10: 322088.13 | L10: 364749.87
A11: De 15 a 24 años | B11: 232973 | C11: =B11-J11 -> 196 | D11: =C11/J11*100 -> 0.084200759 | E11: =IF(B11<K11,-1,IF(B11>L11,1,0)) -> 0 | J11: 232777 | K11: 218937.1 | L11: 246616.9
A12: De 25 a 34 años | B12: 187445 | C12: =B12-J12 -> -12988 | D12: =C12/J12*100 -> -6.4799709 | E12: =IF(B12<K12,-1,IF(B12>L12,1,0)) -> -1 | J12: 200433 | K12: 187744.52 | L12: 213121.48
A13: De 35 a 44 años | B13: 196083 | C13: =B13-J13 -> 8433 | D13: =C13/J13*100 -> 4.4940048 | E13: =IF(B13<K13,-1,IF(B13>L13,1,0)) -> 0 | J13: 187650 | K13: 176277.58 | L13: 199022.42
A14: De 45 a 59 años | B14: 244201 | C14: =B14-J14 -> -939 | D14: =C14/J14*100 -> -0.38304642 | E14: =IF(B14<K14,-1,IF(B14>L14,1,0)) -> 0 | J14: 245140 | K14: 230859.87 | L14: 259420.13
A15: De 60 años o más | B15: 222241 | C15: =B15-J15 -> 20432 | D15: =C15/J15*100 -> 10.124425 | E15: =IF(B15<K15,-1,IF(B15>L15,1,0)) -> 1 | J15: 201809 | K15: 189142.19 | L15: 214475.81
A16: No especificado | B16: 963 | C16: =B16-J16 -> 83 | D16: =C16/J16*100 -> 9.4318182 | E16: 0 | J16: 880 | K16: 0 | L16: 1937.88
A18: 2. Población de 15 años y más | B18: 1083906 | C18: =B18-J18 -> 15217 | D18: =C18/J18*100 -> 1.4238941 | E18: =IF(B18<K18,-1,IF(B18>L18,1,0)) -> 0 | J18: 1068689 | K18: 1038763 | L18: 1098615
A20: 2.1 Fuerza de trabajo | B20: 614813 | C20: =B20-J20 -> -2837 | D20: =C20/J20*100 -> -0.45932162 | E20: =IF(B20<K20,-1,IF(B20>L20,1,0)) -> 0 | F20: =+B20-F21 -> 0 | G20: =+C20-G21 -> 0 | H20: =+B20/1000 -> 614.813 | I20: =+C20/1000 -> -2.837 | J20: 617650 | K20: 593693.27 | L20: 641606.73
A21: Ocupada | B21: 535594 | C21: =B21-J21 -> 11376 | D21: =C21/J21*100 -> 2.1700895 | E21: =IF(B21<K21,-1,IF(B21>L21,1,0)) -> 0 | F21: =SUM(B21:B22) -> 614813 | G21: =SUM(C21:C22) -> -2837 | H21: =+B21/1000 -> 535.594 | I21: =+C21/1000 -> 11.376 | J21: 524218 | K21: 502120.18 | L21: 546315.82
A22: Desempleada | B22: 79219 | C22: =B22-J22 -> -14213 | D22: =C22/J22*100 -> -15.212133 | E22: =IF(B22<K22,-1,IF(B22>L22,1,0)) -> -1 | H22: =+B22/1000 -> 79.219 | I22: =+C22/1000 -> -14.213 | J22: 93432 | K22: 85347.437 | L22: 101516.56
A24: 2.2 Fuera de la fuerza de trabajo | B24: 469093 | C24: =B24-J24 -> 18054 | D24: =C24/J24*100 -> 4.0027581 | E24: =IF(B24<K24,-1,IF(B24>L24,1,0)) -> 1 | H24: =+B24/1000 -> 469.093 | J24: 451039 | K24: 433410.17 | L24: 468667.83
A26: 3. Población ocupada1/ | B26: 535594 | C26: =B26-J26 -> 11376 | D26: =C26/J26*100 -> 2.1700895 | E26: =IF(B26<K26,-1,IF(B26>L26,1,0)) -> 0 | J26: 524218 | K26: 502120.18 | L26: 546315.82
A28: 3.1 Grupo de edad | B28: 535594 | C28: =B28-J28 -> 11376 | D28: =C28/J28*100 -> 2.1700895 | E28: =IF(B28<K28,-1,IF(B28>L28,1,0)) -> 0 | F28: =+B28-F29 -> 0 | G28: =+C28-G29 -> 0 | J28: 524218 | K28: 502120.18 | L28: 546315.82
A29: De 15 a 24 años | B29: 61916 | C29: =B29-J29 -> -2395 | D29: =C29/J29*100 -> -3.7240907 | E29: =IF(B29<K29,-1,IF(B29>L29,1,0)) -> 0 | F29: =SUM(B29:B34) -> 535594 | G29: =SUM(C29:C34) -> 11376 | J29: 64311 | K29: 56873.417 | L29: 71748.583
A30: De 25 a 34 años | B30: 123835 | C30: =B30-J30 -> -5044 | D30: =C30/J30*100 -> -3.9137486 | E30: =IF(B30<K30,-1,IF(B30>L30,1,0)) -> 0 | J30: 128879 | K30: 119166.6 | L30: 138591.4
A31: De 35 a 44 años | B31: 135227 | C31: =B31-J31 -> 11356 | D31: =C31/J31*100 -> 9.1676018 | E31: =IF(B31<K31,-1,IF(B31>L31,1,0)) -> 1 | J31: 123871 | K31: 114454.36 | L31: 133287.64
A32: De 45 a 59 años | B32: 153763 | C32: =B32-J32 -> -1735 | D32: =C32/J32*100 -> -1.11577 | E32: =IF(B32<K32,-1,IF(B32>L32,1,0)) -> 0 | J32: 155498 | K32: 143668.74 | L32: 167327.26
A33: De 60 años o más | B33: 60289 | C33: =B33-J33 -> 8970 | D33: =C33/J33*100 -> 17.478906 | E33: =IF(B33<K33,-1,IF(B33>L33,1,0)) -> 1 | J33: 51319 | K33: 44681.594 | L33: 57956.406
A34: No especificado | B34: 564 | C34: =B34-J34 -> 224 | D34: =C34/J34*100 -> 65.882353 | E34: 0 | J34: 340 | K34: - | L34: -
A36: 3.2 Condición de aseguramiento2/ | B36: 535594 | C36: =B36-J36 -> 11376 | D36: =C36/J36*100 -> 2.1700895 | E36: =IF(B36<K36,-1,IF(B36>L36,1,0)) -> 0 | F36: =+B36-F37 -> 0 | G36: =+C36-G37 -> 0 | J36: 524218 | K36: 502120.18 | L36: 546315.82
A37: No tiene seguro por trabajo | B37: 195738 | C37: =B37-J37 -> -611 | D37: =C37/J37*100 -> -0.3111806 | E37: =IF(B37<K37,-1,IF(B37>L37,1,0)) -> 0 | F37: =SUM(B37:B38) -> 535594 | G37: =SUM(C37:C38) -> 11376 | J37: 196349 | K37: 181817.2 | L37: 210880.8
A38: Tiene seguro por trabajo | B38: 339856 | C38: =B38-J38 -> 11987 | D38: =C38/J38*100 -> 3.6560334 | E38: =IF(B38<K38,-1,IF(B38>L38,1,0)) -> 0 | J38: 327869 | K38: 312275.79 | L38: 343462.21
A40: 3.3 Nivel de educación3/ | B40: 535594 | C40: =B40-J40 -> 11376 | D40: =C40/J40*100 -> 2.1700895 | E40: =IF(B40<K40,-1,IF(B40>L40,1,0)) -> 0 | F40: =+B40-F41 -> 0 | G40: =+C40-G41 -> #VALUE! | J40: 524218 | K40: 502120.18 | L40: 546315.82
A41: Primaria incompleta o menos | B41: 82599 | C41: =B41-J41 -> 3818 | D41: =C41/J41*100 -> 4.8463462 | E41: =IF(B41<K41,-1,IF(B41>L41,1,0)) -> 0 | F41: =SUM(B41:B47) -> 535594 | G41: =SUM(C41:C47) -> #VALUE! | J41: 78781 | K41: 70330.999 | L41: 87231.001
A42: Primaria completa | B42: 176298 | C42: =B42-J42 -> -11459 | D42: =C42/J42*100 -> -6.1031013 | E42: =IF(B42<K42,-1,IF(B42>L42,1,0)) -> 0 | J42: 187757 | K42: 172482.74 | L42: 203031.26
A43: Secundaria incompleta | B43: 100979 | C43: =B43-J43 -> -9901 | D43: =C43/J43*100 -> -8.9294733 | E43: =IF(B43<K43,-1,IF(B43>L43,1,0)) -> -1 | J43: 110880 | K43: 101811.77 | L43: 119948.23
A44: Secundaria completa | B44: 81243 | C44: =B44-J44 -> 9388 | D44: =C44/J44*100 -> 13.065201 | E44: =IF(B44<K44,-1,IF(B44>L44,1,0)) -> 1 | J44: 71855 | K44: 63585.451 | L44: 80124.549
A45: Universitario sin título | B45: 22096 | C45: =B45-J45 -> 2631 | D45: =C45/J45*100 -> 13.516568 | E45: =IF(B45<K45,-1,IF(B45>L45,1,0)) -> 0 | J45: 19465 | K45: 15826.678 | L45: 23103.322
A46: Universitario con título | B46: 72379 | C46: =B46-J46 -> 17467 | D46: =C46/J46*100 -> 31.809076 | E46: =IF(B46<K46,-1,IF(B46>L46,1,0)) -> 1 | J46: 54912 | K46: 46590.227 | L46: 63233.773
A47: No especificado | B47: - | C47: =B47-J47 -> #VALUE! | D47: =C47/J47*100 -> #VALUE! | E47: 0 | J47: 568 | K47: 111.69031 | L47: 1024.3097
A49: 3.4 Búsqueda para cambiar de trabajo4/ | B49: 535594 | C49: =B49-J49 -> 11376 | D49: =C49/J49*100 -> 2.1700895 | E49: =IF(B49<K49,-1,IF(B49>L49,1,0)) -> 0 | F49: =+B49-F50 -> 0 | G49: =+C49-G50 -> 0 | J49: 524218 | K49: 502120.18 | L49: 546315.82
A50: Ocupado que no busca cambiar de trabajo | B50: 481259 | C50: =B50-J50 -> 16157 | D50: =C50/J50*100 -> 3.4738616 | E50: =IF(B50<K50,-1,IF(B50>L50,1,0)) -> 0 | F50: =SUM(B50:B51) -> 535594 | G50: =SUM(C50:C51) -> 11376 | J50: 465102 | K50: 444819.57 | L50: 485384.43
...

Sheet C1 hombre
A1: Cuadro 1
A2: Costa Rica hombres: Población nacional según indicadores generales de la condición de actividad
A3: =+'C1 total'!A3:E3 -> I Trimestre 2022 | J3: Mismo trimestre año anterior
A4: Indicadores generales | B4: =+'C1 total'!B4 -> I 2022 | C4: Variación Interanual | E4: Resultado de la prueba de significancia | F4: Revisión totales y dif | H4: Para boletín | J4: Estimación | K4: Intervalo de confianza al 95%
B5: =+'C1 total'!B5 -> Ene - Mar | C5: Diferencia | D5: % | H5: Q | K5: Inferior | L5: Superior
A7: 1. Población total | B7: 2615004 | C7: =B7-J7 -> 24585 | D7: =C7/J7*100 -> 0.94907426 | E7: =IF(B7<K7,-1,IF(B7>L7,1,0)) -> 0 | J7: 2590419 | K7: 2486291.6 | L7: 2694546.4
A9: 1.1 Grupo de edad | B9: 2615004 | C9: =B9-J9 -> 24585 | D9: =C9/J9*100 -> 0.94907426 | E9: =IF(B9<K9,-1,IF(B9>L9,1,0)) -> 0 | F9: =+B9-F10 -> 0 | G9: =+C9-G10 -> 0 | J9: 2590419 | K9: 2486291.6 | L9: 2694546.4
A10: De 0 a 14 años | B10: 569161 | C10: =B10-J10 -> -453 | D10: =C10/J10*100 -> -0.07952754 | E10: =IF(B10<K10,-1,IF(B10>L10,1,0)) -> 0 | F10: =SUM(B10:B16) -> 2615004 | G10: =SUM(C10:C16) -> 24585 | J10: 569614 | K10: 528961.89 | L10: 610266.11
A11: De 15 a 24 años | B11: 424241 | C11: =B11-J11 -> -23805 | D11: =C11/J11*100 -> -5.3130705 | E11: =IF(B11<K11,-1,IF(B11>L11,1,0)) -> 0 | J11: 448046 | K11: 408106.02 | L11: 487985.98
A12: De 25 a 34 años | B12: 374191 | C12: =B12-J12 -> -1508 | D12: =C12/J12*100 -> -0.40138515 | E12: =IF(B12<K12,-1,IF(B12>L12,1,0)) -> 0 | J12: 375699 | K12: 342692.52 | L12: 408705.48
A13: De 35 a 44 años | B13: 326046 | C13: =B13-J13 -> -15236 | D13: =C13/J13*100 -> -4.4643433 | E13: =IF(B13<K13,-1,IF(B13>L13,1,0)) -> 0 | J13: 341282 | K13: 314411.12 | L13: 368152.88
A14: De 45 a 59 años | B14: 450614 | C14: =B14-J14 -> 11762 | D14: =C14/J14*100 -> 2.6801746 | E14: =IF(B14<K14,-1,IF(B14>L14,1,0)) -> 0 | J14: 438852 | K14: 408476.89 | L14: 469227.11
A15: De 60 años o más | B15: 469919 | C15: =B15-J15 -> 53899 | D15: =C15/J15*100 -> 12.955868 | E15: 0 | J15: 416020 | K15: 383903.81 | L15: 448136.19
A16: No especificado | B16: 832 | C16: =B16-J16 -> -74 | D16: =C16/J16*100 -> -8.1677704 | E16: 0 | J16: 906 | K16: 0 | L16: 2008.5687
A18: 2. Población de 15 años y más | B18: 2045843 | C18: =B18-J18 -> 25038 | D18: =C18/J18*100 -> 1.2390112 | E18: =IF(B18<K18,-1,IF(B18>L18,1,0)) -> 0 | J18: 2020805 | K18: 1934639.7 | L18: 2106970.3
A20: 2.1 Fuerza de trabajo | B20: 1447673 | C20: =B20-J20 -> -12615 | D20: =C20/J20*100 -> -0.86387069 | E20: =IF(B20<K20,-1,IF(B20>L20,1,0)) -> 0 | F20: =+B20-F21 -> 0 | G20: =+C20-G21 -> 0 | H20: =+B20/1000000 -> 1.447673 | I20: =+C20/1000 -> -12.615 | J20: 1460288 | K20: 1386099 | L20: 1534477
A21: Ocupada | B21: 1289944 | C21: =B21-J21 -> 29005 | D21: =C21/J21*100 -> 2.3002699 | E21: =IF(B21<K21,-1,IF(B21>L21,1,0)) -> 0 | F21: =SUM(B21:B22) -> 1447673 | G21: =SUM(C21:C22) -> -12615 | H21: =+B21/1000000 -> 1.289944 | I21: =+C21/1000 -> 29.005 | J21: 1260939 | K21: 1196044.5 | L21: 1325833.5
A22: Desempleada | B22: 157729 | C22: =B22-J22 -> -41620 | D22: =C22/J22*100 -> -20.877958 | E22: =IF(B22<K22,-1,IF(B22>L22,1,0)) -> -1 | H22: =+B22/1000 -> 157.729 | I22: =+C22/1000 -> -41.62 | J22: 199349 | K22: 171038.45 | L22: 227659.55
A24: 2.2 Fuera de la fuerza de trabajo | B24: 598170 | C24: =B24-J24 -> 37653 | D24: =C24/J24*100 -> 6.7175483 | E24: =IF(B24<K24,-1,IF(B24>L24,1,0)) -> 1 | H24: =+B24/1000000 -> 0.59817 | I24: =+C24/1000 -> 37.653 | J24: 560517 | K24: 524679.74 | L24: 596354.26
A26: 3. Población ocupada1/ | B26: 1289944 | C26: =B26-J26 -> 29005 | D26: =C26/J26*100 -> 2.3002699 | E26: =IF(B26<K26,-1,IF(B26>L26,1,0)) -> 0 | J26: 1260939 | K26: 1196044.5 | L26: 1325833.5
A28: 3.1 Grupo de edad | B28: 1289944 | C28: =B28-J28 -> 29005 | D28: =C28/J28*100 -> 2.3002699 | E28: =IF(B28<K28,-1,IF(B28>L28,1,0)) -> 0 | F28: =+B28-F29 -> 0 | G28: =+C28-G29 -> 0 | J28: 1260939 | K28: 1196044.5 | L28: 1325833.5
A29: De 15 a 24 años | B29: 143205 | C29: =B29-J29 -> -10209 | D29: =C29/J29*100 -> -6.6545426 | E29: =IF(B29<K29,-1,IF(B29>L29,1,0)) -> 0 | F29: =SUM(B29:B34) -> 1289944 | G29: =SUM(C29:C34) -> 29005 | J29: 153414 | K29: 130522.02 | L29: 176305.98
A30: De 25 a 34 años | B30: 303483 | C30: =B30-J30 -> -2768 | D30: =C30/J30*100 -> -0.90383378 | E30: =IF(B30<K30,-1,IF(B30>L30,1,0)) -> 0 | J30: 306251 | K30: 277938.88 | L30: 334563.12
A31: De 35 a 44 años | B31: 297778 | C31: =B31-J31 -> 3018 | D31: =C31/J31*100 -> 1.0238838 | E31: =IF(B31<K31,-1,IF(B31>L31,1,0)) -> 0 | J31: 294760 | K31: 270668.55 | L31: 318851.45
A32: De 45 a 59 años | B32: 386733 | C32: =B32-J32 -> 15065 | D32: =C32/J32*100 -> 4.0533487 | E32: =IF(B32<K32,-1,IF(B32>L32,1,0)) -> 0 | J32: 371668 | K32: 343403.66 | L32: 399932.34
A33: De 60 años o más | B33: 158296 | C33: =B33-J33 -> 23790 | D33: =C33/J33*100 -> 17.686943 | E33: =IF(B33<K33,-1,IF(B33>L33,1,0)) -> 1 | J33: 134506 | K33: 115918.2 | L33: 153093.8
A34: No especificado | B34: 449 | C34: =B34-J34 -> 109 | D34: =C34/J34*100 -> 32.058824 | E34: 0 | J34: 340 | K34: - | L34: -
A36: 3.2 Condición de aseguramiento2/ | B36: 1289944 | C36: =B36-J36 -> 29005 | D36: =C36/J36*100 -> 2.3002699 | E36: =IF(B36<K36,-1,IF(B36>L36,1,0)) -> 0 | F36: =+B36-F37 -> 0 | G36: =+C36-G37 -> 0 | J36: 1260939 | K36: 1196044.5 | L36: 1325833.5
A37: No tiene seguro por trabajo | B37: 363763 | C37: =B37-J37 -> -6784 | D37: =C37/J37*100 -> -1.8308069 | E37: =IF(B37<K37,-1,IF(B37>L37,1,0)) -> 0 | F37: =SUM(B37:B38) -> 1289944 | G37: =SUM(C37:C38) -> 29005 | J37: 370547 | K37: 338739.02 | L37: 402354.98
A38: Tiene seguro por trabajo | B38: 926181 | C38: =B38-J38 -> 35789 | D38: =C38/J38*100 -> 4.0194656 | E38: =IF(B38<K38,-1,IF(B38>L38,1,0)) -> 0 | J38: 890392 | K38: 834121.24 | L38: 946662.76
A40: 3.3 Nivel de educación3/ | B40: 1289944 | C40: =B40-J40 -> 29005 | D40: =C40/J40*100 -> 2.3002699 | E40: =IF(B40<K40,-1,IF(B40>L40,1,0)) -> 0 | F40: =+B40-F41 -> 0 | G40: =+C40-G41 -> 0 | J40: 1260939 | K40: 1196044.5 | L40: 1325833.5
A41: Primaria incompleta o menos | B41: 123034 | C41: =B41-J41 -> -11697 | D41: =C41/J41*100 -> -8.6817436 | E41: =IF(B41<K41,-1,IF(B41>L41,1,0)) -> 0 | F41: =SUM(B41:B47) -> 1289944 | G41: =SUM(C41:C47) -> 29005 | J41: 134731 | K41: 116475.65 | L41: 152986.35
A42: Primaria completa | B42: 335513 | C42: =B42-J42 -> 9158 | D42: =C42/J42*100 -> 2.8061467 | E42: =IF(B42<K42,-1,IF(B42>L42,1,0)) -> 0 | J42: 326355 | K42: 298085.85 | L42: 354624.15
A43: Secundaria incompleta | B43: 313380 | C43: =B43-J43 -> 12521 | D43: =C43/J43*100 -> 4.1617502 | E43: =IF(B43<K43,-1,IF(B43>L43,1,0)) -> 0 | J43: 300859 | K43: 269829.27 | L43: 331888.73
A44: Secundaria completa | B44: 236502 | C44: =B44-J44 -> 27618 | D44: =C44/J44*100 -> 13.221692 | E44: =IF(B44<K44,-1,IF(B44>L44,1,0)) -> 1 | J44: 208884 | K44: 182952.72 | L44: 234815.28
A45: Universitario sin título | B45: 65603 | C45: =B45-J45 -> 7596 | D45: =C45/J45*100 -> 13.094971 | E45: =IF(B45<K45,-1,IF(B45>L45,1,0)) -> 0 | J45: 58007 | K45: 44018.118 | L45: 71995.882
A46: Universitario con título | B46: 215272 | C46: =B46-J46 -> -14879 | D46: =C46/J46*100 -> -6.4648861 | E46: =IF(B46<K46,-1,IF(B46>L46,1,0)) -> 0 | J46: 230151 | K46: 202039.31 | L46: 258262.69
A47: No especificado | B47: 640 | C47: =B47-J47 -> -1312 | D47: =C47/J47*100 -> -67.213115 | E47: 0 | J47: 1952 | K47: 0 | L47: 3954.2358
A49: 3.4 Búsqueda para cambiar de trabajo4/ | B49: 1289944 | C49: =B49-J49 -> 29005 | D49: =C49/J49*100 -> 2.3002699 | E49: =IF(B49<K49,-1,IF(B49>L49,1,0)) -> 0 | F49: =+B49-F50 -> 0 | G49: =+C49-G50 -> 0 | J49: 1260939 | K49: 1196044.5 | L49: 1325833.5
A50: Ocupado que no busca cambiar de trabajo | B50: 1177442 | C50: =B50-J50 -> 79688 | D50: =C50/J50*100 -> 7.2591856 | E50: =IF(B50<K50,-1,IF(B50>L50,1,0)) -> 1 | F50: =SUM(B50:B51) -> 1289944 | G50: =SUM(C50:C51) -> 29005 | J50: 1097754 | K50: 1037372.2 | L50: 1158135.8
...

Sheet C1 mujer
A1: Cuadro 1
A2: Costa Rica mujeres: Población nacional según indicadores generales de la condición de actividad
A3: =+'C1 total'!A3:E3 -> I Trimestre 2022 | J3: Mismo trimestre año anterior
A4: Indicadores generales | B4: =+'C1 total'!B4 -> I 2022 | C4: Variación Interanual | E4: Resultado de la prueba de significancia | F4: Revisión totales y dif | H4: Para boletín | J4: Estimación | K4: Intervalo de confianza al 95%
B5: =+'C1 total'!B5 -> Ene - Mar | C5: Diferencia | D5: % | H5: Q | K5: Inferior | L5: Superior
A7: 1. Población total | B7: 2577539 | C7: =B7-J7 -> 25763 | D7: =C7/J7*100 -> 1.0096106 | E7: =IF(B7<K7,-1,IF(B7>L7,1,0)) -> 0 | J7: 2551776 | K7: 2450344 | L7: 2653208
A9: 1.1 Grupo de edad | B9: 2577539 | C9: =B9-J9 -> 25763 | D9: =C9/J9*100 -> 1.0096106 | E9: =IF(B9<K9,-1,IF(B9>L9,1,0)) -> 0 | F9: =+B9-F10 -> 0 | G9: =+C9-G10 -> 0 | J9: 2551776 | K9: 2450344 | L9: 2653208
A10: De 0 a 14 años | B10: 542424 | C10: =B10-J10 -> 25 | D10: =C10/J10*100 -> 0.004609153 | E10: =IF(B10<K10,-1,IF(B10>L10,1,0)) -> 0 | F10: =SUM(B10:B16) -> 2577539 | G10: =SUM(C10:C16) -> 25763 | J10: 542399 | K10: 496016.41 | L10: 588781.59
A11: De 15 a 24 años | B11: 358611 | C11: =B11-J11 -> -4687 | D11: =C11/J11*100 -> -1.2901255 | E11: =IF(B11<K11,-1,IF(B11>L11,1,0)) -> 0 | J11: 363298 | K11: 330216.18 | L11: 396379.82
A12: De 25 a 34 años | B12: 348344 | C12: =B12-J12 -> -1065 | D12: =C12/J12*100 -> -0.30480039 | E12: =IF(B12<K12,-1,IF(B12>L12,1,0)) -> 0 | J12: 349409 | K12: 321786.78 | L12: 377031.22
A13: De 35 a 44 años | B13: 396914 | C13: =B13-J13 -> 38796 | D13: =C13/J13*100 -> 10.833301 | E13: =IF(B13<K13,-1,IF(B13>L13,1,0)) -> 1 | J13: 358118 | K13: 327786.46 | L13: 388449.54
A14: De 45 a 59 años | B14: 453621 | C14: =B14-J14 -> -12161 | D14: =C14/J14*100 -> -2.6108781 | E14: =IF(B14<K14,-1,IF(B14>L14,1,0)) -> 0 | J14: 465782 | K14: 439452.76 | L14: 492111.24
A15: De 60 años o más | B15: 476360 | C15: =B15-J15 -> 5259 | D15: =C15/J15*100 -> 1.1163211 | E15: 0 | J15: 471101 | K15: 431901.8 | L15: 510300.2
A16: No especificado | B16: 1265 | C16: =B16-J16 -> -404 | D16: =C16/J16*100 -> -24.206111 | E16: 0 | J16: 1669 | K16: 0 | L16: 4010.9038
A18: 2. Población de 15 años y más | B18: 2035115 | C18: =B18-J18 -> 25738 | D18: =C18/J18*100 -> 1.2808945 | E18: =IF(B18<K18,-1,IF(B18>L18,1,0)) -> 0 | J18: 2009377 | K18: 1932409.9 | L18: 2086344.1
A20: 2.1 Fuerza de trabajo | B20: 984630 | C20: =B20-J20 -> -5435 | D20: =C20/J20*100 -> -0.54895386 | E20: =IF(B20<K20,-1,IF(B20>L20,1,0)) -> 0 | F20: =+B20-F21 -> 0 | G20: =+C20-G21 -> 0 | H20: =+B20/1000000 -> 0.98463 | I20: =+C20/1000 -> -5.435 | J20: 990065 | K20: 928728.31 | L20: 1051401.7
A21: Ocupada | B21: 812132 | C21: =B21-J21 -> 80717 | D21: =C21/J21*100 -> 11.035732 | E21: =IF(B21<K21,-1,IF(B21>L21,1,0)) -> 1 | F21: =SUM(B21:B22) -> 984630 | G21: =SUM(C21:C22) -> -5435 | H21: =+B21/1000000 -> 0.812132 | I21: =+C21/1000 -> 80.717 | J21: 731415 | K21: 686045.91 | L21: 776784.09
A22: Desempleada | B22: 172498 | C22: =B22-J22 -> -86152 | D22: =C22/J22*100 -> -33.308332 | E22: =IF(B22<K22,-1,IF(B22>L22,1,0)) -> -1 | H22: =+B22/1000 -> 172.498 | I22: =+C22/1000 -> -86.152 | J22: 258650 | K22: 222523.38 | L22: 294776.62
A24: 2.2 Fuera de la fuerza de trabajo | B24: 1050485 | C24: =B24-J24 -> 31173 | D24: =C24/J24*100 -> 3.0582393 | E24: =IF(B24<K24,-1,IF(B24>L24,1,0)) -> 0 | H24: =+B24/1000000 -> 1.050485 | I24: =+C24/1000 -> 31.173 | J24: 1019312 | K24: 971816.9 | L24: 1066807.1
A26: 3. Población ocupada1/ | B26: 812132 | C26: =B26-J26 -> 80717 | D26: =C26/J26*100 -> 11.035732 | E26: =IF(B26<K26,-1,IF(B26>L26,1,0)) -> 1 | J26: 731415 | K26: 686045.91 | L26: 776784.09
A28: 3.1 Grupo de edad | B28: 812132 | C28: =B28-J28 -> 80717 | D28: =C28/J28*100 -> 11.035732 | E28: =IF(B28<K28,-1,IF(B28>L28,1,0)) -> 1 | F28: =+B28-F29 -> 0 | G28: =+C28-G29 -> 0 | J28: 731415 | K28: 686045.91 | L28: 776784.09
A29: De 15 a 24 años | B29: 80590 | C29: =B29-J29 -> 13925 | D29: =C29/J29*100 -> 20.888022 | E29: =IF(B29<K29,-1,IF(B29>L29,1,0)) -> 0 | F29: =SUM(B29:B34) -> 812132 | G29: =SUM(C29:C34) -> 80717 | J29: 66665 | K29: 52144.622 | L29: 81185.378
A30: De 25 a 34 años | B30: 205630 | C30: =B30-J30 -> 25662 | D30: =C30/J30*100 -> 14.259202 | E30: =IF(B30<K30,-1,IF(B30>L30,1,0)) -> 1 | J30: 179968 | K30: 158729.47 | L30: 201206.53
A31: De 35 a 44 años | B31: 239739 | C31: =B31-J31 -> 29467 | D31: =C31/J31*100 -> 14.013754 | E31: =IF(B31<K31,-1,IF(B31>L31,1,0)) -> 1 | J31: 210272 | K31: 187882.84 | L31: 232661.16
A32: De 45 a 59 años | B32: 222058 | C32: =B32-J32 -> 598 | D32: =C32/J32*100 -> 0.27002619 | E32: =IF(B32<K32,-1,IF(B32>L32,1,0)) -> 0 | J32: 221460 | K32: 200212.51 | L32: 242707.49
A33: De 60 años o más | B33: 63937 | C33: =B33-J33 -> 11005 | D33: =C33/J33*100 -> 20.790826 | E33: =IF(B33<K33,-1,IF(B33>L33,1,0)) -> 0 | J33: 52932 | K33: 41619.283 | L33: 64244.717
A34: No especificado | B34: 178 | C34: =B34-J34 -> 60 | D34: =C34/J34*100 -> 50.847458 | E34: 0 | J34: 118 | K34: - | L34: -
A36: 3.2 Condición de aseguramiento2/ | B36: 812132 | C36: =B36-J36 -> 80717 | D36: =C36/J36*100 -> 11.035732 | E36: =IF(B36<K36,-1,IF(B36>L36,1,0)) -> 1 | F36: =+B36-F37 -> 0 | G36: =+C36-G37 -> 0 | J36: 731415 | K36: 686045.91 | L36: 776784.09
A37: No tiene seguro por trabajo | B37: 255214 | C37: =B37-J37 -> -13887 | D37: =C37/J37*100 -> -5.1605159 | E37: =IF(B37<K37,-1,IF(B37>L37,1,0)) -> 0 | F37: =SUM(B37:B38) -> 812132 | G37: =SUM(C37:C38) -> 80717 | J37: 269101 | K37: 246454.62 | L37: 291747.38
A38: Tiene seguro por trabajo | B38: 556918 | C38: =B38-J38 -> 94604 | D38: =C38/J38*100 -> 20.463148 | E38: =IF(B38<K38,-1,IF(B38>L38,1,0)) -> 1 | J38: 462314 | K38: 428837.46 | L38: 495790.54
A40: 3.3 Nivel de educación3/ | B40: 812132 | C40: =B40-J40 -> 80717 | D40: =C40/J40*100 -> 11.035732 | E40: =IF(B40<K40,-1,IF(B40>L40,1,0)) -> 1 | F40: =+B40-F41 -> 0 | G40: =+C40-G41 -> 0 | J40: 731415 | K40: 686045.91 | L40: 776784.09
A41: Primaria incompleta o menos | B41: 47243 | C41: =B41-J41 -> -370 | D41: =C41/J41*100 -> -0.77709869 | E41: =IF(B41<K41,-1,IF(B41>L41,1,0)) -> 0 | F41: =SUM(B41:B47) -> 812132 | G41: =SUM(C41:C47) -> 80717 | J41: 47613 | K41: 39035.586 | L41: 56190.414
A42: Primaria completa | B42: 146920 | C42: =B42-J42 -> 17058 | D42: =C42/J42*100 -> 13.135482 | E42: =IF(B42<K42,-1,IF(B42>L42,1,0)) -> 1 | J42: 129862 | K42: 113031.01 | L42: 146692.99
A43: Secundaria incompleta | B43: 143013 | C43: =B43-J43 -> -13238 | D43: =C43/J43*100 -> -8.4722658 | E43: =IF(B43<K43,-1,IF(B43>L43,1,0)) -> 0 | J43: 156251 | K43: 135988.05 | L43: 176513.95
A44: Secundaria completa | B44: 156230 | C44: =B44-J44 -> 27502 | D44: =C44/J44*100 -> 21.364427 | E44: =IF(B44<K44,-1,IF(B44>L44,1,0)) -> 1 | J44: 128728 | K44: 107776.67 | L44: 149679.33
A45: Universitario sin título | B45: 50008 | C45: =B45-J45 -> -1443 | D45: =C45/J45*100 -> -2.8046102 | E45: =IF(B45<K45,-1,IF(B45>L45,1,0)) -> 0 | J45: 51451 | K45: 38627.503 | L45: 64274.497
A46: Universitario con título | B46: 268590 | C46: =B46-J46 -> 52441 | D46: =C46/J46*100 -> 24.261505 | E46: =IF(B46<K46,-1,IF(B46>L46,1,0)) -> 1 | J46: 216149 | K46: 189357 | L46: 242941
A47: No especificado | B47: 128 | C47: =B47-J47 -> -1233 | D47: =C47/J47*100 -> -90.595151 | E47: 0 | J47: 1361 | K47: 0 | L47: 3202.4825
A49: 3.4 Búsqueda para cambiar de trabajo4/ | B49: 812132 | C49: =B49-J49 -> 80717 | D49: =C49/J49*100 -> 11.035732 | E49: =IF(B49<K49,-1,IF(B49>L49,1,0)) -> 1 | F49: =+B49-F50 -> 0 | G49: =+C49-G50 -> 0 | J49: 731415 | K49: 686045.91 | L49: 776784.09
A50: Ocupado que no busca cambiar de trabajo | B50: 744926 | C50: =B50-J50 -> 90887 | D50: =C50/J50*100 -> 13.896266 | E50: =IF(B50<K50,-1,IF(B50>L50,1,0)) -> 1 | F50: =SUM(B50:B51) -> 812132 | G50: =SUM(C50:C51) -> 80717 | J50: 654039 | K50: 611498.3 | L50: 696579.7
...

Sheet C2 total
A1: Cuadro 2
A2: Costa Rica: Población ocupada según características del empleo
A3: ='C1 total'!A3:E3 -> I Trimestre 2022 | H3: Mismo trimestre año anterior
A4: Características del empleo | B4: =+'C1 total'!B4 -> I 2022 | C4: Variación Interanual | E4: Resultado de la prueba de significancia | F4: Para boletín | H4: Estimación | I4: Intervalo de confianza al 95%
B5: =+'C1 total'!B5 -> Ene - Mar | C5: Diferencia | D5: % | F5: Q | I5: Inferior | J5: Superior
A7: 1. Rama de actividad | B7: 2102076 | C7: =B7-H7 -> 109722 | D7: =C7/H7*100 -> 5.5071538 | E7: =IF(B7<I7,-1,IF(B7>J7,1,0)) -> 1 | F7: =+B7/1000000 -> 2.102076 | G7: =+C7/1000 -> 109.722 | H7: 1992354 | I7: 1899170.2 | J7: 2085537.8
A9: 1.1 Sector primario | B9: 224462 | C9: =B9-H9 -> -41849 | D9: =C9/H9*100 -> -15.714334 | E9: =IF(B9<I9,-1,IF(B9>J9,1,0)) -> -1 | F9: =+B9/1000 -> 224.462 | G9: =+C9/1000 -> -41.849 | H9: 266311 | I9: 237588.73 | J9: 295033.27
A10: Agricultura, ganadería y pesca | B10: 224462 | C10: =B10-H10 -> -41849 | D10: =C10/H10*100 -> -15.714334 | E10: =IF(B10<I10,-1,IF(B10>J10,1,0)) -> -1 | H10: 266311 | I10: 237588.73 | J10: 295033.27
A12: 1.2 Sector secundario | B12: 381845 | C12: =B12-H12 -> 17049 | D12: =C12/H12*100 -> 4.673571 | E12: =IF(B12<I12,-1,IF(B12>J12,1,0)) -> 0 | F12: =+B12/1000 -> 381.845 | G12: =+C12/1000 -> 17.049 | H12: 364796 | I12: 322409.09 | J12: 407182.91
A13: Industria manufacturera | B13: 228199 | C13: =B13-H13 -> 25299 | D13: =C13/H13*100 -> 12.468704 | E13: =IF(B13<I13,-1,IF(B13>J13,1,0)) -> 0 | H13: 202900 | I13: 174538.61 | J13: 231261.39
A14: Construcción | B14: 127693 | C14: =B14-H14 -> -7383 | D14: =C14/H14*100 -> -5.4658118 | E14: =IF(B14<I14,-1,IF(B14>J14,1,0)) -> 0 | H14: 135076 | I14: 109944.88 | J14: 160207.12
A15: Otros1/ | B15: 25953 | C15: =B15-H15 -> -867 | D15: =C15/H15*100 -> -3.2326622 | E15: =IF(B15<I15,-1,IF(B15>J15,1,0)) -> 0 | H15: 26820 | I15: 19203.242 | J15: 34436.758
A17: 1.3 Sector comercio y servicios | B17: 1484935 | C17: =B17-H17 -> 142713 | D17: =C17/H17*100 -> 10.632593 | E17: =IF(B17<I17,-1,IF(B17>J17,1,0)) -> 1 | F17: =+B17/1000000 -> 1.484935 | G17: =+C17/1000 -> 142.713 | H17: 1342222 | I17: 1271638.5 | J17: 1412805.5
A18: Comercio y reparación | B18: 353476 | C18: =B18-H18 -> 18441 | D18: =C18/H18*100 -> 5.5042011 | E18: =IF(B18<I18,-1,IF(B18>J18,1,0)) -> 0 | F18: =+B18/1000 -> 353.476 | G18: =+C18/1000 -> 18.441 | H18: 335035 | I18: 295930.95 | J18: 374139.05
A19: Transporte y almacenamiento | B19: 110539 | C19: =B19-H19 -> 5395 | D19: =C19/H19*100 -> 5.1310584 | E19: =IF(B19<I19,-1,IF(B19>J19,1,0)) -> 0 | F19: =+B19/1000 -> 110.539 | G19: =+C19/1000 -> 5.395 | H19: 105144 | I19: 87029.19 | J19: 123258.81
A20: Hoteles y restaurantes | B20: 138060 | C20: =B20-H20 -> 22698 | D20: =C20/H20*100 -> 19.675456 | E20: =IF(B20<I20,-1,IF(B20>J20,1,0)) -> 1 | F20: =+B20/1000 -> 138.06 | G20: =+C20/1000 -> 22.698 | H20: 115362 | I20: 98137.105 | J20: 132586.89
A21: Intermediación financiera y de seguros | B21: 41445 | C21: =B21-H21 -> 5715 | D21: =C21/H21*100 -> 15.994962 | E21: =IF(B21<I21,-1,IF(B21>J21,1,0)) -> 0 | F21: =+B21/1000 -> 41.445 | G21: =+C21/1000 -> 5.715 | H21: 35730 | I21: 25092.411 | J21: 46367.589
A22: Actividades profesionales y administrativas de apoyo | B22: 195326 | C22: =B22-H22 -> 21742 | D22: =C22/H22*100 -> 12.525348 | E22: =IF(B22<I22,-1,IF(B22>J22,1,0)) -> 0 | F22: =+B22/1000 -> 195.326 | G22: =+C22/1000 -> 21.742 | H22: 173584 | I22: 145591.7 | J22: 201576.3
A23: Administración pública | B23: 85290 | C23: =B23-H23 -> 7485 | D23: =C23/H23*100 -> 9.6202044 | E23: =IF(B23<I23,-1,IF(B23>J23,1,0)) -> 0 | F23: =+B23/1000 -> 85.29 | G23: =+C23/1000 -> 7.485 | H23: 77805 | I23: 63242.339 | J23: 92367.661
A24: Enseñanza y salud | B24: 226764 | C24: =B24-H24 -> 20408 | D24: =C24/H24*100 -> 9.8897052 | E24: =IF(B24<I24,-1,IF(B24>J24,1,0)) -> 0 | F24: =+B24/1000 -> 226.764 | G24: =+C24/1000 -> 20.408 | H24: 206356 | I24: 181026.05 | J24: 231685.95
A25: Comunicación y otros servicios2/ | B25: 194214 | C25: =B25-H25 -> 17163 | D25: =C25/H25*100 -> 9.693817 | E25: =IF(B25<I25,-1,IF(B25>J25,1,0)) -> 0 | F25: =+B25/1000 -> 194.214 | G25: =+C25/1000 -> 17.163 | H25: 177051 | I25: 152174.66 | J25: 201927.34
A26: Hogares como empleadores | B26: 139821 | C26: =B26-H26 -> 23666 | D26: =C26/H26*100 -> 20.3745 | E26: =IF(B26<I26,-1,IF(B26>J26,1,0)) -> 1 | F26: =+B26/1000 -> 139.821 | G26: =+C26/1000 -> 23.666 | H26: 116155 | I26: 97794.628 | J26: 134515.37
A28: 1.4 No especificado | B28: 10834 | C28: =B28-H28 -> -8191 | D28: =C28/H28*100 -> -43.053876 | E28: 0 | H28: 19025 | I28: 10043.656 | J28: 28006.344
A30: 2. Grupo ocupacional | B30: 2102076 | C30: =B30-H30 -> 109722 | D30: =C30/H30*100 -> 5.5071538 | E30: =IF(B30<I30,-1,IF(B30>J30,1,0)) -> 1 | H30: 1992354 | I30: 1899170.2 | J30: 2085537.8
A32: Directores y Gerentes | B32: 23139 | C32: =B32-H32 -> 6246 | D32: =C32/H32*100 -> 36.973895 | E32: =IF(B32<I32,-1,IF(B32>J32,1,0)) -> 0 | H32: 16893 | I32: 10180.687 | J32: 23605.313
A33: Profesionales, científicos e intelectuales | B33: 241940 | C33: =B33-H33 -> 18299 | D33: =C33/H33*100 -> 8.18231 | E33: =IF(B33<I33,-1,IF(B33>J33,1,0)) -> 0 | H33: 223641 | I33: 195551.77 | J33: 251730.23
A34: Técnicos y profesionales de nivel medio | B34: 240186 | C34: =B34-H34 -> 56198 | D34: =C34/H34*100 -> 30.544383 | E34: =IF(B34<I34,-1,IF(B34>J34,1,0)) -> 1 | H34: 183988 | I34: 158516.55 | J34: 209459.45
A35: Personal de apoyo administrativo | B35: 135129 | C35: =B35-H35 -> 5843 | D35: =C35/H35*100 -> 4.5194375 | E35: =IF(B35<I35,-1,IF(B35>J35,1,0)) -> 0 | H35: 129286 | I35: 106385.02 | J35: 152186.98
A36: Trabajadores de los servicios y vendedores de comercios y mercados | B36: 435471 | C36: =B36-H36 -> 23589 | D36: =C36/H36*100 -> 5.7271257 | E36: =IF(B36<I36,-1,IF(B36>J36,1,0)) -> 0 | H36: 411882 | I36: 377391.85 | J36: 446372.15
A37: Agricultores y trabajadores calificados agropecuarios, forestales y pesqueros | B37: 66071 | C37: =B37-H37 -> -4158 | D37: =C37/H37*100 -> -5.9206311 | E37: =IF(B37<I37,-1,IF(B37>J37,1,0)) -> 0 | H37: 70229 | I37: 57704.692 | J37: 82753.308
A38: Oficiales, operarios y artesanos de artes mecánicas y de otros oficios | B38: 253806 | C38: =B38-H38 -> 10737 | D38: =C38/H38*100 -> 4.4172642 | E38: =IF(B38<I38,-1,IF(B38>J38,1,0)) -> 0 | H38: 243069 | I38: 214300.37 | J38: 271837.63
A39: Operadores de instalaciones y máquinas y ensambladores | B39: 171235 | C39: =B39-H39 -> 18332 | D39: =C39/H39*100 -> 11.9893 | E39: =IF(B39<I39,-1,IF(B39>J39,1,0)) -> 0 | H39: 152903 | I39: 131135.45 | J39: 174670.55
A40: Ocupaciones elementales | B40: 513723 | C40: =B40-H40 -> -18832 | D40: =C40/H40*100 -> -3.5361606 | E40: =IF(B40<I40,-1,IF(B40>J40,1,0)) -> 0 | H40: 532555 | I40: 489621 | J40: 575489
A41: No especificado | B41: 21376 | C41: =B41-H41 -> -6532 | D41: =C41/H41*100 -> -23.405475 | E41: 0 | H41: 27908 | I41: 17063.437 | J41: 38752.563
A43: 3. Calificación del grupo ocupacional | B43: 2102076 | C43: =B43-H43 -> 109722 | D43: =C43/H43*100 -> 5.5071538 | E43: =IF(B43<I43,-1,IF(B43>J43,1,0)) -> 1 | H43: 1992354 | I43: 1899170.2 | J43: 2085537.8
A45: Ocupación calificada alta3/ | B45: 505265 | C45: =B45-H45 -> 80743 | D45: =C45/H45*100 -> 19.019745 | E45: =IF(B45<I45,-1,IF(B45>J45,1,0)) -> 1 | F45: =+B45/1000 -> 505.265 | G45: =+C45/1000 -> 80.743 | H45: 424522 | I45: 382658.33 | J45: 466385.67
A46: Ocupación calificada media4/ | B46: 1061712 | C46: =B46-H46 -> 54343 | D46: =C46/H46*100 -> 5.3945476 | E46: =IF(B46<I46,-1,IF(B46>J46,1,0)) -> 0 | F46: =+B46/1000 -> 1061.712 | G46: =+C46/1000 -> 54.343 | H46: 1007369 | I46: 947488.54 | J46: 1067249.5
A47: Ocupación no calificada | B47: 513723 | C47: =B47-H47 -> -18832 | D47: =C47/H47*100 -> -3.5361606 | E47: =IF(B47<I47,-1,IF(B47>J47,1,0)) -> 0 | F47: =+B47/1000 -> 513.723 | G47: =+C47/1000 -> -18.832 | H47: 532555 | I47: 489621 | J47: 575489
A48: No especificado | B48: 21376 | C48: =B48-H48 -> -6532 | D48: =C48/H48*100 -> -23.405475 | E48: 0 | H48: 27908 | I48: 17063.437 | J48: 38752.563
A50: 4. Sector institucional | B50: 2102076 | C50: =B50-H50 -> 109722 | D50: =C50/H50*100 -> 5.5071538 | E50: =IF(B50<I50,-1,IF(B50>J50,1,0)) -> 1 | H50: 1992354 | I50: 1899170.2 | J50: 2085537.8
...

Sheet C2 urbano
A1: Cuadro 2.1
A2: Costa Rica zona urbana: Población ocupada según características del empleo
A3: =+'C2 total'!A3:E3 -> I Trimestre 2022 | H3: Mismo trimestre año anterior
A4: Características del empleo | B4: =+'C2 total'!B4 -> I 2022 | C4: Variación Interanual | E4: Resultado de la prueba de significancia | F4: Para boletín | H4: Estimación | I4: Intervalo de confianza al 95%
B5: =+'C2 total'!B5 -> Ene - Mar | C5: Diferencia | D5: % | F5: Q | I5: Inferior | J5: Superior
A7: 1. Rama de actividad | B7: 1566482 | C7: =B7-H7 -> 98346 | D7: =C7/H7*100 -> 6.6986982 | E7: =IF(B7<I7,-1,IF(B7>J7,1,0)) -> 1 | F7: =+B7/1000000 -> 1.566482 | G7: =+C7/1000 -> 98.346 | H7: 1468136 | I7: 1377610.3 | J7: 1558661.7
A9: 1.1 Sector primario | B9: 63504 | C9: =B9-H9 -> -15345 | D9: =C9/H9*100 -> -19.461249 | E9: =IF(B9<I9,-1,IF(B9>J9,1,0)) -> 0 | F9: =+B9/1000 -> 63.504 | G9: =+C9/1000 -> -15.345 | H9: 78849 | I9: 59474.237 | J9: 98223.763
A10: Agricultura, ganadería y pesca | B10: 63504 | C10: =B10-H10 -> -15345 | D10: =C10/H10*100 -> -19.461249 | E10: =IF(B10<I10,-1,IF(B10>J10,1,0)) -> 0 | H10: 78849 | I10: 59474.237 | J10: 98223.763
A12: 1.2 Sector secundario | B12: 303438 | C12: =B12-H12 -> 15112 | D12: =C12/H12*100 -> 5.2412894 | E12: =IF(B12<I12,-1,IF(B12>J12,1,0)) -> 0 | F12: =+B12/1000 -> 303.438 | G12: =+C12/1000 -> 15.112 | H12: 288326 | I12: 246889.36 | J12: 329762.64
A13: Industria manufacturera | B13: 190723 | C13: =B13-H13 -> 29233 | D13: =C13/H13*100 -> 18.10205 | E13: =IF(B13<I13,-1,IF(B13>J13,1,0)) -> 1 | H13: 161490 | I13: 134009.67 | J13: 188970.33
A14: Construcción | B14: 95191 | C14: =B14-H14 -> -12192 | D14: =C14/H14*100 -> -11.353752 | E14: =IF(B14<I14,-1,IF(B14>J14,1,0)) -> 0 | H14: 107383 | I14: 82678.752 | J14: 132087.25
A15: Otros1/ | B15: 17524 | C15: =B15-H15 -> -1929 | D15: =C15/H15*100 -> -9.9162083 | E15: =IF(B15<I15,-1,IF(B15>J15,1,0)) -> 0 | H15: 19453 | I15: 12132.31 | J15: 26773.69
A17: 1.3 Sector comercio y servicios | B17: 1188957 | C17: =B17-H17 -> 105907 | D17: =C17/H17*100 -> 9.7785882 | E17: =IF(B17<I17,-1,IF(B17>J17,1,0)) -> 1 | F17: =+B17/1000000 -> 1.188957 | G17: =+C17/1000 -> 105.907 | H17: 1083050 | I17: 1014367.9 | J17: 1151732.1
A18: Comercio y reparación | B18: 284165 | C18: =B18-H18 -> 9657 | D18: =C18/H18*100 -> 3.5179303 | E18: =IF(B18<I18,-1,IF(B18>J18,1,0)) -> 0 | F18: =+B18/1000 -> 284.165 | G18: =+C18/1000 -> 9.657 | H18: 274508 | I18: 236057.94 | J18: 312958.06
A19: Transporte y almacenamiento | B19: 91677 | C19: =B19-H19 -> 7991 | D19: =C19/H19*100 -> 9.5487895 | E19: =IF(B19<I19,-1,IF(B19>J19,1,0)) -> 0 | F19: =+B19/1000 -> 91.677 | G19: =+C19/1000 -> 7.991 | H19: 83686 | I19: 65973.309 | J19: 101398.69
A20: Hoteles y restaurantes | B20: 104714 | C20: =B20-H20 -> 21606 | D20: =C20/H20*100 -> 25.997497 | E20: =IF(B20<I20,-1,IF(B20>J20,1,0)) -> 1 | F20: =+B20/1000 -> 104.714 | G20: =+C20/1000 -> 21.606 | H20: 83108 | I20: 66658.472 | J20: 99557.528
A21: Intermediación financiera y de seguros | B21: 36228 | C21: =B21-H21 -> 3915 | D21: =C21/H21*100 -> 12.115867 | E21: =IF(B21<I21,-1,IF(B21>J21,1,0)) -> 0 | F21: =+B21/1000 -> 36.228 | G21: =+C21/1000 -> 3.915 | H21: 32313 | I21: 21769.958 | J21: 42856.042
A22: Actividades profesionales y administrativas de apoyo | B22: 161988 | C22: =B22-H22 -> 12948 | D22: =C22/H22*100 -> 8.6876006 | E22: =IF(B22<I22,-1,IF(B22>J22,1,0)) -> 0 | F22: =+B22/1000 -> 161.988 | G22: =+C22/1000 -> 12.948 | H22: 149040 | I22: 121295.83 | J22: 176784.17
A23: Administración pública | B23: 68319 | C23: =B23-H23 -> 8076 | D23: =C23/H23*100 -> 13.405707 | E23: =IF(B23<I23,-1,IF(B23>J23,1,0)) -> 0 | F23: =+B23/1000 -> 68.319 | G23: =+C23/1000 -> 8.076 | H23: 60243 | I23: 46136.092 | J23: 74349.908
A24: Enseñanza y salud | B24: 181086 | C24: =B24-H24 -> 11161 | D24: =C24/H24*100 -> 6.5681918 | E24: =IF(B24<I24,-1,IF(B24>J24,1,0)) -> 0 | F24: =+B24/1000 -> 181.086 | G24: =+C24/1000 -> 11.161 | H24: 169925 | I24: 145113.1 | J24: 194736.9
A25: Comunicación y otros servicios2/ | B25: 159365 | C25: =B25-H25 -> 12477 | D25: =C25/H25*100 -> 8.4942269 | E25: =IF(B25<I25,-1,IF(B25>J25,1,0)) -> 0 | F25: =+B25/1000 -> 159.365 | G25: =+C25/1000 -> 12.477 | H25: 146888 | I25: 122569.84 | J25: 171206.16
A26: Hogares como empleadores | B26: 101415 | C26: =B26-H26 -> 18076 | D26: =C26/H26*100 -> 21.689725 | E26: =IF(B26<I26,-1,IF(B26>J26,1,0)) -> 1 | F26: =+B26/1000 -> 101.415 | G26: =+C26/1000 -> 18.076 | H26: 83339 | I26: 65632.729 | J26: 101045.27
A28: 1.4 No especificado | B28: 10583 | C28: =B28-H28 -> -7328 | D28: =C28/H28*100 -> -40.913405 | E28: 0 | H28: 17911 | I28: 8969.5992 | J28: 26852.401
A30: 2. Grupo ocupacional | B30: 1566482 | C30: =B30-H30 -> 98346 | D30: =C30/H30*100 -> 6.6986982 | E30: =IF(B30<I30,-1,IF(B30>J30,1,0)) -> 1 | H30: 1468136 | I30: 1377610.3 | J30: 1558661.7
A32: Directores y Gerentes | B32: 21772 | C32: =B32-H32 -> 6661 | D32: =C32/H32*100 -> 44.080471 | E32: =IF(B32<I32,-1,IF(B32>J32,1,0)) -> 1 | H32: 15111 | I32: 8462.9848 | J32: 21759.015
A33: Profesionales, científicos e intelectuales | B33: 203933 | C33: =B33-H33 -> 8160 | D33: =C33/H33*100 -> 4.1680926 | E33: =IF(B33<I33,-1,IF(B33>J33,1,0)) -> 0 | H33: 195773 | I33: 168012.39 | J33: 223533.61
A34: Técnicos y profesionales de nivel medio | B34: 206566 | C34: =B34-H34 -> 47454 | D34: =C34/H34*100 -> 29.824275 | E34: =IF(B34<I34,-1,IF(B34>J34,1,0)) -> 1 | H34: 159112 | I34: 134040.11 | J34: 184183.89
A35: Personal de apoyo administrativo | B35: 113327 | C35: =B35-H35 -> 6545 | D35: =C35/H35*100 -> 6.1293102 | E35: =IF(B35<I35,-1,IF(B35>J35,1,0)) -> 0 | H35: 106782 | I35: 84241.24 | J35: 129322.76
A36: Trabajadores de los servicios y vendedores de comercios y mercados | B36: 335291 | C36: =B36-H36 -> 5729 | D36: =C36/H36*100 -> 1.7383679 | E36: =IF(B36<I36,-1,IF(B36>J36,1,0)) -> 0 | H36: 329562 | I36: 295846.4 | J36: 363277.6
A37: Agricultores y trabajadores calificados agropecuarios, forestales y pesqueros | B37: 18249 | C37: =B37-H37 -> 940 | D37: =C37/H37*100 -> 5.4307008 | E37: =IF(B37<I37,-1,IF(B37>J37,1,0)) -> 0 | H37: 17309 | I37: 7683.2343 | J37: 26934.766
A38: Oficiales, operarios y artesanos de artes mecánicas y de otros oficios | B38: 202232 | C38: =B38-H38 -> 17574 | D38: =C38/H38*100 -> 9.5170531 | E38: =IF(B38<I38,-1,IF(B38>J38,1,0)) -> 0 | H38: 184658 | I38: 156601.58 | J38: 212714.42
A39: Operadores de instalaciones y máquinas y ensambladores | B39: 135600 | C39: =B39-H39 -> 21689 | D39: =C39/H39*100 -> 19.040303 | E39: =IF(B39<I39,-1,IF(B39>J39,1,0)) -> 1 | H39: 113911 | I39: 92829.809 | J39: 134992.19
A40: Ocupaciones elementales | B40: 309671 | C40: =B40-H40 -> -10522 | D40: =C40/H40*100 -> -3.286143 | E40: =IF(B40<I40,-1,IF(B40>J40,1,0)) -> 0 | H40: 320193 | I40: 281251.5 | J40: 359134.5
A41: No especificado | B41: 19841 | C41: =B41-H41 -> -5884 | D41: =C41/H41*100 -> -22.872692 | E41: 0 | H41: 25725 | I41: 14987.379 | J41: 36462.621
A43: 3. Calificación del grupo ocupacional | B43: 1566482 | C43: =B43-H43 -> 98346 | D43: =C43/H43*100 -> 6.6986982 | E43: =IF(B43<I43,-1,IF(B43>J43,1,0)) -> 1 | H43: 1468136 | I43: 1377610.3 | J43: 1558661.7
A45: Ocupación calificada alta3/ | B45: 432271 | C45: =B45-H45 -> 62275 | D45: =C45/H45*100 -> 16.831263 | E45: =IF(B45<I45,-1,IF(B45>J45,1,0)) -> 1 | F45: =+B45/1000 -> 432.271 | G45: =+C45/1000 -> 62.275 | H45: 369996 | I45: 328695.54 | J45: 411296.46
A46: Ocupación calificada media4/ | B46: 804699 | C46: =B46-H46 -> 52477 | D46: =C46/H46*100 -> 6.976265 | E46: =IF(B46<I46,-1,IF(B46>J46,1,0)) -> 0 | F46: =+B46/1000 -> 804.699 | G46: =+C46/1000 -> 52.477 | H46: 752222 | I46: 693874.41 | J46: 810569.59
A47: Ocupación no calificada | B47: 309671 | C47: =B47-H47 -> -10522 | D47: =C47/H47*100 -> -3.286143 | E47: =IF(B47<I47,-1,IF(B47>J47,1,0)) -> 0 | F47: =+B47/1000 -> 309.671 | G47: =+C47/1000 -> -10.522 | H47: 320193 | I47: 281251.5 | J47: 359134.5
A48: No especificado | B48: 19841 | C48: =B48-H48 -> -5884 | D48: =C48/H48*100 -> -22.872692 | E48: 0 | H48: 25725 | I48: 14987.379 | J48: 36462.621
A50: 4. Sector institucional | B50: 1566482 | C50: =B50-H50 -> 98346 | D50: =C50/H50*100 -> 6.6986982 | E50: =IF(B50<I50,-1,IF(B50>J50,1,0)) -> 1 | H50: 1468136 | I50: 1377610.3 | J50: 1558661.7
...

Sheet C2 rural
A1: Cuadro 2.2
A2: Costa Rica zona rural: Población ocupada según características del empleo
A3: =+'C2 urbano'!A3:E3 -> I Trimestre 2022 | H3: Mismo trimestre año anterior
A4: Características del empleo | B4: =+'C2 urbano'!B4 -> I 2022 | C4: Variación Interanual | E4: Resultado de la prueba de significancia | F4: Para boletín | H4: Estimación | I4: Intervalo de confianza al 95%
B5: =+'C2 urbano'!B5 -> Ene - Mar | C5: Diferencia | D5: % | F5: Q | I5: Inferior | J5: Superior
A7: 1. Rama de actividad | B7: 535594 | C7: =B7-H7 -> 11376 | D7: =C7/H7*100 -> 2.1700895 | E7: =IF(B7<I7,-1,IF(B7>J7,1,0)) -> 0 | F7: =+B7/1000 -> 535.594 | G7: =+C7/1000 -> 11.376 | H7: 524218 | I7: 502120.18 | J7: 546315.82
A9: 1.1 Sector primario | B9: 160958 | C9: =B9-H9 -> -26504 | D9: =C9/H9*100 -> -14.138332 | E9: =IF(B9<I9,-1,IF(B9>J9,1,0)) -> -1 | F9: =+B9/1000 -> 160.958 | G9: =+C9/1000 -> -26.504 | H9: 187462 | I9: 166194.63 | J9: 208729.37
A10: Agricultura, ganadería y pesca | B10: 160958 | C10: =B10-H10 -> -26504 | D10: =C10/H10*100 -> -14.138332 | E10: =IF(B10<I10,-1,IF(B10>J10,1,0)) -> -1 | H10: 187462 | I10: 166194.63 | J10: 208729.37
A12: 1.2 Sector secundario | B12: 78407 | C12: =B12-H12 -> 1937 | D12: =C12/H12*100 -> 2.5330195 | E12: =IF(B12<I12,-1,IF(B12>J12,1,0)) -> 0 | F12: =+B12/1000 -> 78.407 | G12: =+C12/1000 -> 1.937 | H12: 76470 | I12: 67297.51 | J12: 85642.49
A13: Industria manufacturera | B13: 37476 | C13: =B13-H13 -> -3934 | D13: =C13/H13*100 -> -9.5001207 | E13: =IF(B13<I13,-1,IF(B13>J13,1,0)) -> 0 | H13: 41410 | I13: 34252.705 | J13: 48567.295
A14: Construcción | B14: 32502 | C14: =B14-H14 -> 4809 | D14: =C14/H14*100 -> 17.365399 | E14: =IF(B14<I14,-1,IF(B14>J14,1,0)) -> 1 | H14: 27693 | I14: 22914.188 | J14: 32471.812
A15: Otros1/ | B15: 8429 | C15: =B15-H15 -> 1062 | D15: =C15/H15*100 -> 14.415637 | E15: =IF(B15<I15,-1,IF(B15>J15,1,0)) -> 0 | H15: 7367 | I15: 5229.2262 | J15: 9504.7738
A17: 1.3 Sector comercio y servicios | B17: 295978 | C17: =B17-H17 -> 36806 | D17: =C17/H17*100 -> 14.20138 | E17: =IF(B17<I17,-1,IF(B17>J17,1,0)) -> 1 | F17: =+B17/1000 -> 295.978 | G17: =+C17/1000 -> 36.806 | H17: 259172 | I17: 242520.33 | J17: 275823.67
