Workbook

Sheet Índice sitio Web
B1: INSTITUTO NACIONAL DE ESTADÍSTICA Y CENSOS
B3: Encuesta Continua de Empleo
B4: Principales indicadores interanuales del mercado laboral costarricense AMJ 2022
B6: C1 total | C6: Costa Rica: Población nacional según indicadores generales de la condición de actividad
B7: C1 urbano | C7: Costa Rica zona urbana: Población nacional según indicadores generales de la condición de actividad
B8: C1 rural | C8: Costa Rica zona rural: Población nacional según indicadores generales de la condición de actividad
B9: C1 hombre | C9: Costa Rica hombres: Población nacional según indicadores generales de la condición de actividad
B10: C1 mujer | C10: Costa Rica mujeres: Población nacional según indicadores generales de la condición de actividad
B12: C2 total | C12: Costa Rica: Población ocupada según características del empleo
B13: C2 urbano | C13: Costa Rica zona urbana: Población ocupada según características del empleo
B14: C2 rural | C14: Costa Rica zona rural: Población ocupada según características del empleo
B15: C2 hombre | C15: Costa Rica hombres: Población ocupada según características del empleo
B16: C2 mujer | C16: Costa Rica mujeres: Población ocupada según características del empleo
B18: C3 total | C18: Costa Rica: Población ocupada según condición del empleo de las personas asalariadas e independientes
B19: C3 urbano | C19: Costa Rica zona urbana: Población ocupada según condición del empleo de las personas asalariadas e independientes
... B28: C4 mujer | C28: Costa Rica mujeres: Promedio del ingreso mensual en el empleo principal según características del empleo
B29: Fuente: INEC-Costa Rica. Encuesta Continua de Empleo (ECE), 2022.

Sheet C1 total
A1: Cuadro 1
A2: Costa Rica: Población nacional según indicadores generales de la condición de actividad
A3: II Trimestre 2022 | J3: Mismo trimestre año anterior
A4: Indicadores generales | B4: II 2022 | C4: Variación Interanual | E4: Resultado de la prueba de significancia | F4: Revisión totales y dif | H4: Para boletín | J4: Estimación | K4: Intervalo de confianza al 95%
B5: Abr - Jun | C5: Diferencia | D5: % | H5: Q | K5: Inferior | L5: Superior
A7: 1. Población total | B7: 5205148 | C7: =B7-J7 -> 50479 | D7: =C7/J7*100 -> 0.97928693 | E7: =IF(B7<K7,-1,IF(B7>L7,1,0)) -> 0 | J7: 5154669 | K7: 5015025.5 | L7: 5294312.5
A9: 1.1 Grupo de edad | B9: 5205148 | C9: =B9-J9 -> 50479 | D9: =C9/J9*100 -> 0.97928693 | E9: =IF(B9<K9,-1,IF(B9>L9,1,0)) -> 0 | F9: =+B9-F10 -> 0 | G9: =+C9-G10 -> 0 | J9: 5154669 | K9: 5015025.5 | L9: 5294312.5
A10: De 0 a 14 años | B10: 1111354 | C10: =B10-J10 -> -462 | D10: =C10/J10*100 -> -0.041553638 | E10: =IF(B10<K10,-1,IF(B10>L10,1,0)) -> 0 | F10: =SUM(B10:B16) -> 5205148 | G10: =SUM(C10:C16) -> 50479 | J10: 1111816 | K10: 1036495.3 | L10: 1187136.7
A11: De 15 a 24 años | B11: 787116 | C11: =B11-J11 -> 897 | D11: =C11/J11*100 -> 0.11409035 | E11: =IF(B11<K11,-1,IF(B11>L11,1,0)) -> 0 | J11: 786219 | K11: 729748.84 | L11: 842689.16
A12: De 25 a 34 años | B12: 748704 | C12: =B12-J12 -> 26944 | D12: =C12/J12*100 -> 3.7330969 | E12: =IF(B12<K12,-1,IF(B12>L12,1,0)) -> 0 | J12: 721760 | K12: 674647.38 | L12: 768872.62
A13: De 35 a 44 años | B13: 716990 | C13: =B13-J13 -> 16289 | D13: =C13/J13*100 -> 2.324672 | E13: =IF(B13<K13,-1,IF(B13>L13,1,0)) -> 0 | J13: 700701 | K13: 656093.48 | L13: 745308.52
A14: De 45 a 59 años | B14: 883047 | C14: =B14-J14 -> -50305 | D14: =C14/J14*100 -> -5.3897136 | E14: =IF(B14<K14,-1,IF(B14>L14,1,0)) -> -1 | J14: 933352 | K14: 883482.13 | L14: 983221.87
A15: De 60 años o más | B15: 956024 | C15: =B15-J15 -> 56707 | D15: =C15/J15*100 -> 6.305563 | E15: =IF(B15<K15,-1,IF(B15>L15,1,0)) -> 0 | J15: 899317 | K15: 840032.14 | L15: 958601.86
A16: No especificado | B16: 1913 | C16: =B16-J16 -> 409 | D16: =C16/J16*100 -> 27.194149 | E16: =IF(B16<K16,-1,IF(B16>L16,1,0)) -> 0 | J16: 1504 | K16: 0 | L16: 3478.6684
A18: 2. Población de 15 años y más | B18: 4093794 | C18: =B18-J18 -> 50941 | D18: =C18/J18*100 -> 1.260026 | E18: =IF(B18<K18,-1,IF(B18>L18,1,0)) -> 0 | J18: 4042853 | K18: 3937225 | L18: 4148481
A20: 2.1 Fuerza de trabajo | B20: 2438788 | C20: =B20-J20 -> 35224 | D20: =C20/J20*100 -> 1.4654904 | E20: =IF(B20<K20,-1,IF(B20>L20,1,0)) -> 0 | F20: =+B20-F21 -> 0 | G20: =+C20-G21 -> 0 | H20: =+B20/1000000 -> 2.438788 | I20: =+C20/1000 -> 35.224 | J20: 2403564 | K20: 2306710.4 | L20: 2500417.6
A21: Ocupada | B21: 2153988 | C21: =B21-J21 -> 184625 | D21: =C21/J21*100 -> 9.3748588 | E21: =IF(B21<K21,-1,IF(B21>L21,1,0)) -> 1 | F21: =SUM(B21:B22) -> 2438788 | G21: =SUM(C21:C22) -> 35224 | H21: =+B21/1000000 -> 2.153988 | I21: =+C21/1000 -> 184.625 | J21: 1969363 | K21: 1884248.4 | L21: 2054477.6
A22: Desempleada | B22: 284800 | C22: =B22-J22 -> -149401 | D22: =C22/J22*100 -> -34.408258 | E22: =IF(B22<K22,-1,IF(B22>L22,1,0)) -> -1 | H22: =+B22/1000 -> 284.8 | I22: =+C22/1000 -> -149.401 | J22: 434201 | K22: 389641.31 | L22: 478760.69
A24: 2.2 Fuera de la fuerza de trabajo | B24: 1655006 | C24: =B24-J24 -> 15717 | D24: =C24/J24*100 -> 0.95876932 | E24: =IF(B24<K24,-1,IF(B24>L24,1,0)) -> 0 | H24: =+B24/1000000 -> 1.655006 | I24: =+C24/1000 -> 15.717 | J24: 1639289 | K24: 1574422.3 | L24: 1704155.7
A26: 3. Población ocupada1/ | B26: 2153988 | C26: =B26-J26 -> 184625 | D26: =C26/J26*100 -> 9.3748588 | E26: =IF(B26<K26,-1,IF(B26>L26,1,0)) -> 1 | J26: 1969363 | K26: 1884248.4 | L26: 2054477.6
A28: 3.1 Grupo de edad | B28: 2153988 | C28: =B28-J28 -> 184625 | D28: =C28/J28*100 -> 9.3748588 | E28: =IF(B28<K28,-1,IF(B28>L28,1,0)) -> 1 | F28: =+B28-F29 -> 0 | G28: =+C28-G29 -> 0 | J28: 1969363 | K28: 1884248.4 | L28: 2054477.6
A29: De 15 a 24 años | B29: 228273 | C29: =B29-J29 -> 11319 | D29: =C29/J29*100 -> 5.217235 | E29: =IF(B29<K29,-1,IF(B29>L29,1,0)) -> 0 | F29: =SUM(B29:B34) -> 2153988 | G29: =SUM(C29:C34) -> 184625 | J29: 216954 | K29: 192701.4 | L29: 241206.6
A30: De 25 a 34 años | B30: 562456 | C30: =B30-J30 -> 96964 | D30: =C30/J30*100 -> 20.830433 | E30: =IF(B30<K30,-1,IF(B30>L30,1,0)) -> 1 | J30: 465492 | K30: 431644.77 | L30: 499339.23
A31: De 35 a 44 años | B31: 528135 | C31: =B31-J31 -> 31466 | D31: =C31/J31*100 -> 6.3354065 | E31: =IF(B31<K31,-1,IF(B31>L31,1,0)) -> 0 | J31: 496669 | K31: 457075.47 | L31: 536262.53
A32: De 45 a 59 años | B32: 607537 | C32: =B32-J32 -> 4658 | D32: =C32/J32*100 -> 0.77262602 | E32: =IF(B32<K32,-1,IF(B32>L32,1,0)) -> 0 | J32: 602879 | K32: 558316.49 | L32: 647441.51
A33: De 60 años o más | B33: 227336 | C33: =B33-J33 -> 41191 | D33: =C33/J33*100 -> 22.128448 | E33: =IF(B33<K33,-1,IF(B33>L33,1,0)) -> 1 | J33: 186145 | K33: 164341.35 | L33: 207948.65
A34: No especificado | B34: 251 | C34: =B34-J34 -> -973 | D34: =C34/J34*100 -> -79.493464 | E34: =IF(B34<K34,-1,IF(B34>L34,1,0)) -> 0 | J34: 1224 | K34: 0 | L34: 3173.096
A36: 3.2 Condición de aseguramiento2/ | B36: 2153988 | C36: =B36-J36 -> 184625 | D36: =C36/J36*100 -> 9.3748588 | E36: =IF(B36<K36,-1,IF(B36>L36,1,0)) -> 1 | F36: =+B36-F37 -> 0 | G36: =+C36-G37 -> 0 | J36: 1969363 | K36: 1884248.4 | L36: 2054477.6
A37: No tiene seguro por trabajo | B37: 662735 | C37: =B37-J37 -> 81181 | D37: =C37/J37*100 -> 13.959323 | E37: =IF(B37<K37,-1,IF(B37>L37,1,0)) -> 1 | F37: =SUM(B37:B38) -> 2153988 | G37: =SUM(C37:C38) -> 184625 | J37: 581554 | K37: 540553.22 | L37: 622554.78
A38: Tiene seguro por trabajo | B38: 1491253 | C38: =B38-J38 -> 103444 | D38: =C38/J38*100 -> 7.4537635 | E38: =IF(B38<K38,-1,IF(B38>L38,1,0)) -> 1 | J38: 1387809 | K38: 1319168.1 | L38: 1456449.9
A40: 3.3 Nivel de educación3/ | B40: 2153988 | C40: =B40-J40 -> 184625 | D40: =C40/J40*100 -> 9.3748588 | E40: =IF(B40<K40,-1,IF(B40>L40,1,0)) -> 1 | F40: =+B40-F41 -> 0 | G40: =+C40-G41 -> 0 | J40: 1969363 | K40: 1884248.4 | L40: 2054477.6
A41: Primaria incompleta o menos | B41: 152855 | C41: =B41-J41 -> -14969 | D41: =C41/J41*100 -> -8.9194632 | E41: =IF(B41<K41,-1,IF(B41>L41,1,0)) -> 0 | F41: =SUM(B41:B47) -> 2153988 | G41: =SUM(C41:C47) -> 184625 | J41: 167824 | K41: 146410.73 | L41: 189237.27
A42: Primaria completa | B42: 487766 | C42: =B42-J42 -> 38675 | D42: =C42/J42*100 -> 8.6118404 | E42: =IF(B42<K42,-1,IF(B42>L42,1,0)) -> 1 | J42: 449091 | K42: 412767.04 | L42: 485414.96
A43: Secundaria incompleta | B43: 469692 | C43: =B43-J43 -> 76067 | D43: =C43/J43*100 -> 19.324738 | E43: =IF(B43<K43,-1,IF(B43>L43,1,0)) -> 1 | J43: 393625 | K43: 357093.09 | L43: 430156.91
A44: Secundaria completa | B44: 445691 | C44: =B44-J44 -> 86786 | D44: =C44/J44*100 -> 24.180772 | E44: =IF(B44<K44,-1,IF(B44>L44,1,0)) -> 1 | J44: 358905 | K44: 321235.86 | L44: 396574.14
A45: Universitario sin título | B45: 104126 | C45: =B45-J45 -> -14835 | D45: =C45/J45*100 -> -12.470474 | E45: =IF(B45<K45,-1,IF(B45>L45,1,0)) -> 0 | J45: 118961 | K45: 98816.582 | L45: 139105.42
A46: Universitario con título | B46: 492965 | C46: =B46-J46 -> 12630 | D46: =C46/J46*100 -> 2.6294149 | E46: =IF(B46<K46,-1,IF(B46>L46,1,0)) -> 0 | J46: 480335 | K46: 426417.43 | L46: 534252.57
A47: No especificado | B47: 893 | C47: =B47-J47 -> 271 | D47: =C47/J47*100 -> 43.569132 | E47: =IF(B47<K47,-1,IF(B47>L47,1,0)) -> 0 | J47: 622 | K47: 117.09899 | L47: 1126.901
A49: 3.4 Búsqueda para cambiar de trabajo4/ | B49: 2153988 | C49: =B49-J49 -> 184625 | D49: =C49/J49*100 -> 9.3748588 | E49: =IF(B49<K49,-1,IF(B49>L49,1,0)) -> 1 | F49: =+B49-F50 -> 0 | G49: =+C49-G50 -> 0 | J49: 1969363 | K49: 1884248.4 | L49: 2054477.6
A50: Ocupado que no busca cambiar de trabajo | B50: 1962551 | C50: =B50-J50 -> 167006 | D50: =C50/J50*100 -> 9.3011314 | E50: =IF(B50<K50,-1,IF(B50>L50,1,0)) -> 1 | F50: =SUM(B50:B51) -> 2153988 | G50: =SUM(C50:C51) -> 184625 | J50: 1795545 | K50: 1715166.6 | L50: 1875923.4
...

Sheet C1 urbano
A1: Cuadro 1.1
A2: Costa Rica zona urbana: Población nacional según indicadores generales de la condición de actividad
A3: =+'C1 total'!A3:E3 -> II Trimestre 2022 | J3: Mismo trimestre año anterior
A4: Indicadores generales | B4: =+'C1 total'!B4 -> II 2022 | C4: Variación Interanual | E4: Resultado de la prueba de significancia | F4: Revisión totales y dif | H4: Para boletín | J4: Estimación | K4: Intervalo de confianza al 95%
B5: =+'C1 total'!B5 -> Abr - Jun | C5: Diferencia | D5: % | H5: Q | K5: Inferior | L5: Superior
A7: 1. Población total urbana | B7: 3773654 | C7: =B7-J7 -> 35091 | D7: =C7/J7*100 -> 0.93862267 | E7: =IF(B7<K7,-1,IF(B7>L7,1,0)) -> 0 | J7: 3738563 | K7: 3602046.6 | L7: 3875079.4
A9: 1.1 Grupo de edad | B9: 3773654 | C9: =B9-J9 -> 35091 | D9: =C9/J9*100 -> 0.93862267 | E9: =IF(B9<K9,-1,IF(B9>L9,1,0)) -> 0 | F9: =+B9-F10 -> 0 | G9: =+C9-G10 -> 0 | J9: 3738563 | K9: 3602046.6 | L9: 3875079.4
A10: De 0 a 14 años | B10: 767755 | C10: =B10-J10 -> -474 | D10: =C10/J10*100 -> -0.061700352 | E10: =IF(B10<K10,-1,IF(B10>L10,1,0)) -> 0 | F10: =SUM(B10:B16) -> 3773654 | G10: =SUM(C10:C16) -> 35091 | J10: 768229 | K10: 695226.84 | L10: 841231.16
A11: De 15 a 24 años | B11: 558270 | C11: =B11-J11 -> 1791 | D11: =C11/J11*100 -> 0.32184503 | E11: =IF(B11<K11,-1,IF(B11>L11,1,0)) -> 0 | J11: 556479 | K11: 501516.68 | L11: 611441.32
A12: De 25 a 34 años | B12: 553485 | C12: =B12-J12 -> 26494 | D12: =C12/J12*100 -> 5.0274103 | E12: =IF(B12<K12,-1,IF(B12>L12,1,0)) -> 0 | J12: 526991 | K12: 481396.26 | L12: 572585.74
A13: De 35 a 44 años | B13: 514296 | C13: =B13-J13 -> 1896 | D13: =C13/J13*100 -> 0.37002342 | E13: =IF(B13<K13,-1,IF(B13>L13,1,0)) -> 0 | J13: 512400 | K13: 469015.92 | L13: 555784.08
A14: De 45 a 59 años | B14: 641926 | C14: =B14-J14 -> -40126 | D14: =C14/J14*100 -> -5.8831291 | E14: =IF(B14<K14,-1,IF(B14>L14,1,0)) -> 0 | J14: 682052 | K14: 633982.9 | L14: 730121.1
A15: De 60 años o más | B15: 736544 | C15: =B15-J15 -> 45405 | D15: =C15/J15*100 -> 6.5695902 | E15: =IF(B15<K15,-1,IF(B15>L15,1,0)) -> 0 | J15: 691139 | K15: 633042.74 | L15: 749235.26
A16: No especificado | B16: 1378 | C16: =B16-J16 -> 105 | D16: =C16/J16*100 -> 8.2482325 | E16: 0 | J16: 1273 | K16: 0 | L16: 3222.208
A18: 2. Población de 15 años y más | B18: 3005899 | C18: =B18-J18 -> 35565 | D18: =C18/J18*100 -> 1.1973401 | E18: =IF(B18<K18,-1,IF(B18>L18,1,0)) -> 0 | J18: 2970334 | K18: 2866902.7 | L18: 3073765.3
A20: 2.1 Fuerza de trabajo | B20: 1817822 | C20: =B20-J20 -> 8327 | D20: =C20/J20*100 -> 0.46018364 | E20: =IF(B20<K20,-1,IF(B20>L20,1,0)) -> 0 | F20: =+B20-F21 -> 0 | G20: =+C20-G21 -> 0 | H20: =+B20/1000000 -> 1.817822 | I20: =+C20/1000 -> 8.327 | J20: 1809495 | K20: 1714725 | L20: 1904265
A21: Ocupada | B21: 1603797 | C21: =B21-J21 -> 136457 | D21: =C21/J21*100 -> 9.299617 | E21: =IF(B21<K21,-1,IF(B21>L21,1,0)) -> 1 | F21: =SUM(B21:B22) -> 1817822 | G21: =SUM(C21:C22) -> 8327 | H21: =+B21/1000000 -> 1.603797 | I21: =+C21/1000 -> 136.457 | J21: 1467340 | K21: 1384124.8 | L21: 1550555.2
A22: Desempleada | B22: 214025 | C22: =B22-J22 -> -128130 | D22: =C22/J22*100 -> -37.44794 | E22: =IF(B22<K22,-1,IF(B22>L22,1,0)) -> -1 | H22: =+B22/1000 -> 214.025 | I22: =+C22/1000 -> -128.13 | J22: 342155 | K22: 298411.67 | L22: 385898.33
A24: 2.2 Fuera de la fuerza de trabajo | B24: 1188077 | C24: =B24-J24 -> 27238 | D24: =C24/J24*100 -> 2.3464063 | E24: =IF(B24<K24,-1,IF(B24>L24,1,0)) -> 0 | H24: =+B24/1000000 -> 1.188077 | J24: 1160839 | K24: 1098262.3 | L24: 1223415.7
A26: 3. Población ocupada1/ | B26: 1603797 | C26: =B26-J26 -> 136457 | D26: =C26/J26*100 -> 9.299617 | E26: =IF(B26<K26,-1,IF(B26>L26,1,0)) -> 1 | J26: 1467340 | K26: 1384124.8 | L26: 1550555.2
A28: 3.1 Grupo de edad | B28: 1603797 | C28: =B28-J28 -> 136457 | D28: =C28/J28*100 -> 9.299617 | E28: =IF(B28<K28,-1,IF(B28>L28,1,0)) -> 1 | F28: =+B28-F29 -> 0 | G28: =+C28-G29 -> #VALUE! | J28: 1467340 | K28: 1384124.8 | L28: 1550555.2
A29: De 15 a 24 años | B29: 163082 | C29: =B29-J29 -> 3753 | D29: =C29/J29*100 -> 2.3555034 | E29: =IF(B29<K29,-1,IF(B29>L29,1,0)) -> 0 | F29: =SUM(B29:B34) -> 1603797 | G29: =SUM(C29:C34) -> #VALUE! | J29: 159329 | K29: 136025.45 | L29: 182632.55
A30: De 25 a 34 años | B30: 433551 | C30: =B30-J30 -> 89108 | D30: =C30/J30*100 -> 25.870173 | E30: =IF(B30<K30,-1,IF(B30>L30,1,0)) -> 1 | J30: 344443 | K30: 311842.67 | L30: 377043.33
A31: De 35 a 44 años | B31: 386714 | C31: =B31-J31 -> 12113 | D31: =C31/J31*100 -> 3.2335739 | E31: =IF(B31<K31,-1,IF(B31>L31,1,0)) -> 0 | J31: 374601 | K31: 335841.73 | L31: 413360.27
A32: De 45 a 59 años | B32: 449590 | C32: =B32-J32 -> -894 | D32: =C32/J32*100 -> -0.19845322 | E32: =IF(B32<K32,-1,IF(B32>L32,1,0)) -> 0 | J32: 450484 | K32: 407065.46 | L32: 493902.54
A33: De 60 años o más | B33: 170860 | C33: =B33-J33 -> 33457 | D33: =C33/J33*100 -> 24.349541 | E33: =IF(B33<K33,-1,IF(B33>L33,1,0)) -> 1 | J33: 137403 | K33: 116507.66 | L33: 158298.34
A34: No especificado | C34: =B34-J34 -> #VALUE! | D34: =C34/J34*100 -> #VALUE! | E34: 0 | J34: 1080 | K34: - | L34: -
A36: 3.2 Condición de aseguramiento2/ | B36: 1603797 | C36: =B36-J36 -> 136457 | D36: =C36/J36*100 -> 9.299617 | E36: =IF(B36<K36,-1,IF(B36>L36,1,0)) -> 1 | F36: =+B36-F37 -> 0 | G36: =+C36-G37 -> 0 | J36: 1467340 | K36: 1384124.8 | L36: 1550555.2
A37: No tiene seguro por trabajo | B37: 457810 | C37: =B37-J37 -> 54397 | D37: =C37/J37*100 -> 13.484196 | E37: =IF(B37<K37,-1,IF(B37>L37,1,0)) -> 1 | F37: =SUM(B37:B38) -> 1603797 | G37: =SUM(C37:C38) -> 136457 | J37: 403413 | K37: 364208.92 | L37: 442617.08
A38: Tiene seguro por trabajo | B38: 1145987 | C38: =B38-J38 -> 82060 | D38: =C38/J38*100 -> 7.7129352 | E38: =IF(B38<K38,-1,IF(B38>L38,1,0)) -> 1 | J38: 1063927 | K38: 996985.56 | L38: 1130868.4
A40: 3.3 Nivel de educación3/ | B40: 1603797 | C40: =B40-J40 -> 136457 | D40: =C40/J40*100 -> 9.299617 | E40: =IF(B40<K40,-1,IF(B40>L40,1,0)) -> 1 | F40: =+B40-F41 -> 0 | G40: =+C40-G41 -> 0 | J40: 1467340 | K40: 1384124.8 | L40: 1550555.2
A41: Primaria incompleta o menos | B41: 72857 | C41: =B41-J41 -> -19981 | D41: =C41/J41*100 -> -21.522437 | E41: =IF(B41<K41,-1,IF(B41>L41,1,0)) -> 0 | F41: =SUM(B41:B47) -> 1603797 | G41: =SUM(C41:C47) -> 136457 | J41: 92838 | K41: 72724.773 | L41: 112951.23
A42: Primaria completa | B42: 304883 | C42: =B42-J42 -> 32750 | D42: =C42/J42*100 -> 12.034557 | E42: =IF(B42<K42,-1,IF(B42>L42,1,0)) -> 0 | J42: 272133 | K42: 237552.45 | L42: 306713.55
A43: Secundaria incompleta | B43: 357068 | C43: =B43-J43 -> 61128 | D43: =C43/J43*100 -> 20.655538 | E43: =IF(B43<K43,-1,IF(B43>L43,1,0)) -> 1 | J43: 295940 | K43: 260162.06 | L43: 331717.94
A44: Secundaria completa | B44: 365801 | C44: =B44-J44 -> 79259 | D44: =C44/J44*100 -> 27.660517 | E44: =IF(B44<K44,-1,IF(B44>L44,1,0)) -> 1 | J44: 286542 | K44: 249765.39 | L44: 323318.61
A45: Universitario sin título | B45: 79006 | C45: =B45-J45 -> -20751 | D45: =C45/J45*100 -> -20.801548 | E45: =IF(B45<K45,-1,IF(B45>L45,1,0)) -> -1 | J45: 99757 | K45: 80006.23 | L45: 119507.77
A46: Universitario con título | B46: 423532 | C46: =B46-J46 -> 3625 | D46: =C46/J46*100 -> 0.86328639 | E46: =IF(B46<K46,-1,IF(B46>L46,1,0)) -> 0 | J46: 419907 | K46: 366727.5 | L46: 473086.5
A47: No especificado | B47: 650 | C47: =B47-J47 -> 427 | D47: =C47/J47*100 -> 191.47982 | E47: 0 | J47: 223 | K47: - | L47: -
A49: 3.4 Búsqueda para cambiar de trabajo4/ | B49: 1603797 | C49: =B49-J49 -> 136457 | D49: =C49/J49*100 -> 9.299617 | E49: =IF(B49<K49,-1,IF(B49>L49,1,0)) -> 1 | F49: =+B49-F50 -> 0 | G49: =+C49-G50 -> 0 | J49: 1467340 | K49: 1384124.8 | L49: 1550555.2
A50: Ocupado que no busca cambiar de trabajo | B50: 1466404 | C50: =B50-J50 -> 126249 | D50: =C50/J50*100 -> 9.4204775 | E50: =IF(B50<K50,-1,IF(B50>L50,1,0)) -> 1 | F50: =SUM(B50:B51) -> 1603797 | G50: =SUM(C50:C51) -> 136457 | J50: 1340155 | K50: 1261544.7 | L50: 1418765.3
...

Sheet C1 rural
A1: Cuadro 1.2
A2: Costa Rica zona rural: Población nacional según indicadores generales de la condición de actividad
A3: =+'C1 urbano'!A3:E3 -> II Trimestre 2022 | J3: Mismo trimestre año anterior
A4: Indicadores generales | B4: =+'C1 urbano'!B4 -> II 2022 | C4: Variación Interanual | E4: Resultado de la prueba de significancia | F4: Revisión totales y dif | H4: Para boletín | J4: Estimación | K4: Intervalo de confianza al 95%
B5: =+'C1 urbano'!B5 -> Abr - Jun | C5: Diferencia | D5: % | H5: Q | K5: Inferior | L5: Superior
A7: 1. Población total rural | B7: 1431494 | C7: =B7-J7 -> 15388 | D7: =C7/J7*100 -> 1.0866418 | E7: =IF(B7<K7,-1,IF(B7>L7,1,0)) -> 0 | J7: 1416106 | K7: 1386719.2 | L7: 1445492.8
A9: 1.1 Grupo de edad | B9: 1431494 | C9: =B9-J9 -> 15388 | D9: =C9/J9*100 -> 1.0866418 | E9: =IF(B9<K9,-1,IF(B9>L9,1,0)) -> 0 | F9: =+B9-F10 -> 0 | G9: =+C9-G10 -> 0 | J9: 1416106 | K9: 1386719.2 | L9: 1445492.8
A10: De 0 a 14 años | B10: 343599 | C10: =B10-J10 -> 12 | D10: =C10/J10*100 -> 0.0034925652 | E10: =IF(B10<K10,-1,IF(B10>L10,1,0)) -> 0 | F10: =SUM(B10:B16) -> 1431494 | G10: =SUM(C10:C16) -> 15388 | J10: 343587 | K10: 324661.44 | L10: 362512.56
A11: De 15 a 24 años | B11: 228846 | C11: =B11-J11 -> -894 | D11: =C11/J11*100 -> -0.38913554 | E11: =IF(B11<K11,-1,IF(B11>L11,1,0)) -> 0 | J11: 229740 | K11: 216472.94 | L11: 243007.06
A12: De 25 a 34 años | B12: 195219 | C12: =B12-J12 -> 450 | D12: =C12/J12*100 -> 0.23104293 | E12: =IF(B12<K12,-1,IF(B12>L12,1,0)) -> 0 | J12: 194769 | K12: 182672.75 | L12: 206865.25
A13: De 35 a 44 años | B13: 202694 | C13: =B13-J13 -> 14393 | D13: =C13/J13*100 -> 7.6436132 | E13: =IF(B13<K13,-1,IF(B13>L13,1,0)) -> 1 | J13: 188301 | K13: 177687.61 | L13: 198914.39
A14: De 45 a 59 años | B14: 241121 | C14: =B14-J14 -> -10179 | D14: =C14/J14*100 -> -4.0505372 | E14: =IF(B14<K14,-1,IF(B14>L14,1,0)) -> 0 | J14: 251300 | K14: 237784.45 | L14: 264815.55
A15: De 60 años o más | B15: 219480 | C15: =B15-J15 -> 11302 | D15: =C15/J15*100 -> 5.4290079 | E15: =IF(B15<K15,-1,IF(B15>L15,1,0)) -> 0 | J15: 208178 | K15: 196002.01 | L15: 220353.99
A16: No especificado | B16: 535 | C16: =B16-J16 -> 304 | D16: =C16/J16*100 -> 131.60173 | E16: 0 | J16: 231 | K16: - | L16: -
A18: 2. Población de 15 años y más | B18: 1087895 | C18: =B18-J18 -> 15376 | D18: =C18/J18*100 -> 1.4336343 | E18: =IF(B18<K18,-1,IF(B18>L18,1,0)) -> 0 | J18: 1072519 | K18: 1051089.2 | L18: 1093948.8
A20: 2.1 Fuerza de trabajo | B20: 620966 | C20: =B20-J20 -> 26897 | D20: =C20/J20*100 -> 4.5275885 | E20: =IF(B20<K20,-1,IF(B20>L20,1,0)) -> 1 | F20: =+B20-F21 -> 0 | G20: =+C20-G21 -> 0 | H20: =+B20/1000 -> 620.966 | I20: =+C20/1000 -> 26.897 | J20: 594069 | K20: 574087.52 | L20: 614050.48
A21: Ocupada | B21: 550191 | C21: =B21-J21 -> 48168 | D21: =C21/J21*100 -> 9.5947795 | E21: =IF(B21<K21,-1,IF(B21>L21,1,0)) -> 1 | F21: =SUM(B21:B22) -> 620966 | G21: =SUM(C21:C22) -> 26897 | H21: =+B21/1000 -> 550.191 | I21: =+C21/1000 -> 48.168 | J21: 502023 | K21: 484142.16 | L21: 519903.84
A22: Desempleada | B22: 70775 | C22: =B22-J22 -> -21271 | D22: =C22/J22*100 -> -23.109098 | E22: =IF(B22<K22,-1,IF(B22>L22,1,0)) -> -1 | H22: =+B22/1000 -> 70.775 | I22: =+C22/1000 -> -21.271 | J22: 92046 | K22: 83555.561 | L22: 100536.44
A24: 2.2 Fuera de la fuerza de trabajo | B24: 466929 | C24: =B24-J24 -> -11521 | D24: =C24/J24*100 -> -2.4079841 | E24: =IF(B24<K24,-1,IF(B24>L24,1,0)) -> 0 | H24: =+B24/1000 -> 466.929 | J24: 478450 | K24: 461366.22 | L24: 495533.78
A26: 3. Población ocupada1/ | B26: 550191 | C26: =B26-J26 -> 48168 | D26: =C26/J26*100 -> 9.5947795 | E26: =IF(B26<K26,-1,IF(B26>L26,1,0)) -> 1 | J26: 502023 | K26: 484142.16 | L26: 519903.84
A28: 3.1 Grupo de edad | B28: 550191 | C28: =B28-J28 -> 48168 | D28: =C28/J28*100 -> 9.5947795 | E28: =IF(B28<K28,-1,IF(B28>L28,1,0)) -> 1 | F28: =+B28-F29 -> 0 | G28: =+C28-G29 -> 0 | J28: 502023 | K28: 484142.16 | L28: 519903.84
A29: De 15 a 24 años | B29: 65191 | C29: =B29-J29 -> 7566 | D29: =C29/J29*100 -> 13.129718 | E29: =IF(B29<K29,-1,IF(B29>L29,1,0)) -> 1 | F29: =SUM(B29:B34) -> 550191 | G29: =SUM(C29:C34) -> 48168 | J29: 57625 | K29: 50796.392 | L29: 64453.608
A30: De 25 a 34 años | B30: 128905 | C30: =B30-J30 -> 7856 | D30: =C30/J30*100 -> 6.4899338 | E30: =IF(B30<K30,-1,IF(B30>L30,1,0)) -> 0 | J30: 121049 | K30: 111788.31 | L30: 130309.69
A31: De 35 a 44 años | B31: 141421 | C31: =B31-J31 -> 19353 | D31: =C31/J31*100 -> 15.854278 | E31: =IF(B31<K31,-1,IF(B31>L31,1,0)) -> 1 | J31: 122068 | K31: 113745.26 | L31: 130390.74
A32: De 45 a 59 años | B32: 157947 | C32: =B32-J32 -> 5552 | D32: =C32/J32*100 -> 3.6431641 | E32: =IF(B32<K32,-1,IF(B32>L32,1,0)) -> 0 | J32: 152395 | K32: 142117.93 | L32: 162672.07
A33: De 60 años o más | B33: 56476 | C33: =B33-J33 -> 7734 | D33: =C33/J33*100 -> 15.867219 | E33: =IF(B33<K33,-1,IF(B33>L33,1,0)) -> 1 | J33: 48742 | K33: 42417.643 | L33: 55066.357
A34: No especificado | B34: 251 | C34: =B34-J34 -> 107 | D34: =C34/J34*100 -> 74.305556 | E34: 0 | J34: 144 | K34: - | L34: -
A36: 3.2 Condición de aseguramiento2/ | B36: 550191 | C36: =B36-J36 -> 48168 | D36: =C36/J36*100 -> 9.5947795 | E36: =IF(B36<K36,-1,IF(B36>L36,1,0)) -> 1 | F36: =+B36-F37 -> 0 | G36: =+C36-G37 -> 0 | J36: 502023 | K36: 484142.16 | L36: 519903.84
A37: No tiene seguro por trabajo | B37: 204925 | C37: =B37-J37 -> 26784 | D37: =C37/J37*100 -> 15.035281 | E37: =IF(B37<K37,-1,IF(B37>L37,1,0)) -> 1 | F37: =SUM(B37:B38) -> 550191 | G37: =SUM(C37:C38) -> 48168 | J37: 178141 | K37: 165958.8 | L37: 190323.2
A38: Tiene seguro por trabajo | B38: 345266 | C38: =B38-J38 -> 21384 | D38: =C38/J38*100 -> 6.6024046 | E38: =IF(B38<K38,-1,IF(B38>L38,1,0)) -> 1 | J38: 323882 | K38: 308319.53 | L38: 339444.47
A40: 3.3 Nivel de educación3/ | B40: 550191 | C40: =B40-J40 -> 48168 | D40: =C40/J40*100 -> 9.5947795 | E40: =IF(B40<K40,-1,IF(B40>L40,1,0)) -> 1 | F40: =+B40-F41 -> 0 | G40: =+C40-G41 -> 0 | J40: 502023 | K40: 484142.16 | L40: 519903.84
A41: Primaria incompleta o menos | B41: 79998 | C41: =B41-J41 -> 5012 | D41: =C41/J41*100 -> 6.6839143 | E41: =IF(B41<K41,-1,IF(B41>L41,1,0)) -> 0 | F41: =SUM(B41:B47) -> 550191 | G41: =SUM(C41:C47) -> 48168 | J41: 74986 | K41: 67557.487 | L41: 82414.513
A42: Primaria completa | B42: 182883 | C42: =B42-J42 -> 5925 | D42: =C42/J42*100 -> 3.3482521 | E42: =IF(B42<K42,-1,IF(B42>L42,1,0)) -> 0 | J42: 176958 | K42: 165688.18 | L42: 188227.82
A43: Secundaria incompleta | B43: 112624 | C43: =B43-J43 -> 14939 | D43: =C43/J43*100 -> 15.293034 | E43: =IF(B43<K43,-1,IF(B43>L43,1,0)) -> 1 | J43: 97685 | K43: 90079.816 | L43: 105290.18
A44: Secundaria completa | B44: 79890 | C44: =B44-J44 -> 7527 | D44: =C44/J44*100 -> 10.401725 | E44: =IF(B44<K44,-1,IF(B44>L44,1,0)) -> 0 | J44: 72363 | K44: 63997.145 | L44: 80728.855
A45: Universitario sin título | B45: 25120 | C45: =B45-J45 -> 5916 | D45: =C45/J45*100 -> 30.806082 | E45: =IF(B45<K45,-1,IF(B45>L45,1,0)) -> 1 | J45: 19204 | K45: 15115.885 | L45: 23292.115
A46: Universitario con título | B46: 69433 | C46: =B46-J46 -> 9005 | D46: =C46/J46*100 -> 14.902032 | E46: =IF(B46<K46,-1,IF(B46>L46,1,0)) -> 0 | J46: 60428 | K46: 51142.882 | L46: 69713.118
A47: No especificado | B47: 243 | C47: =B47-J47 -> -156 | D47: =C47/J47*100 -> -39.097744 | E47: 0 | J47: 399 | K47: 9.6704151 | L47: 788.32958
A49: 3.4 Búsqueda para cambiar de trabajo4/ | B49: 550191 | C49: =B49-J49 -> 48168 | D49: =C49/J49*100 -> 9.5947795 | E49: =IF(B49<K49,-1,IF(B49>L49,1,0)) -> 1 | F49: =+B49-F50 -> 0 | G49: =+C49-G50 -> 0 | J49: 502023 | K49: 484142.16 | L49: 519903.84
A50: Ocupado que no busca cambiar de trabajo | B50: 496147 | C50: =B50-J50 -> 40757 | D50: =C50/J50*100 -> 8.9499111 | E50: =IF(B50<K50,-1,IF(B50>L50,1,0)) -> 1 | F50: =SUM(B50:B51) -> 550191 | G50: =SUM(C50:C51) -> 48168 | J50: 455390 | K50: 438150.1 | L50: 472629.9
...

Sheet C1 hombre
A1: Cuadro 1
A2: Costa Rica hombres: Población nacional según indicadores generales de la condición de actividad
A3: =+'C1 total'!A3:E3 -> II Trimestre 2022 | J3: Mismo trimestre año anterior
A4: Indicadores generales | B4: =+'C1 total'!B4 -> II 2022 | C4: Variación Interanual | E4: Resultado de la prueba de significancia | F4: Revisión totales y dif | H4: Para boletín | J4: Estimación | K4: Intervalo de confianza al 95%
B5: =+'C1 total'!B5 -> Abr - Jun | C5: Diferencia | D5: % | H5: Q | K5: Inferior | L5: Superior
A7: 1. Población total | B7: 2620901 | C7: =B7-J7 -> 24257 | D7: =C7/J7*100 -> 0.93416733 | E7: =IF(B7<K7,-1,IF(B7>L7,1,0)) -> 0 | J7: 2596644 | K7: 2514591.5 | L7: 2678696.5
A9: 1.1 Grupo de edad | B9: 2620901 | C9: =B9-J9 -> 24257 | D9: =C9/J9*100 -> 0.93416733 | E9: =IF(B9<K9,-1,IF(B9>L9,1,0)) -> 0 | F9: =+B9-F10 -> 0 | G9: =+C9-G10 -> 0 | J9: 2596644 | K9: 2514591.5 | L9: 2678696.5
A10: De 0 a 14 años | B10: 569207 | C10: =B10-J10 -> -262 | D10: =C10/J10*100 -> -0.046007772 | E10: =IF(B10<K10,-1,IF(B10>L10,1,0)) -> 0 | F10: =SUM(B10:B16) -> 2620901 | G10: =SUM(C10:C16) -> 24257 | J10: 569469 | K10: 525720.75 | L10: 613217.25
A11: De 15 a 24 años | B11: 424006 | C11: =B11-J11 -> -7791 | D11: =C11/J11*100 -> -1.8043201 | E11: =IF(B11<K11,-1,IF(B11>L11,1,0)) -> 0 | J11: 431797 | K11: 392883.29 | L11: 470710.71
A12: De 25 a 34 años | B12: 392705 | C12: =B12-J12 -> 26443 | D12: =C12/J12*100 -> 7.2196952 | E12: =IF(B12<K12,-1,IF(B12>L12,1,0)) -> 0 | J12: 366262 | K12: 335164.8 | L12: 397359.2
A13: De 35 a 44 años | B13: 326053 | C13: =B13-J13 -> -17666 | D13: =C13/J13*100 -> -5.1396635 | E13: =IF(B13<K13,-1,IF(B13>L13,1,0)) -> 0 | J13: 343719 | K13: 314852.41 | L13: 372585.59
A14: De 45 a 59 años | B14: 428521 | C14: =B14-J14 -> -22888 | D14: =C14/J14*100 -> -5.0703464 | E14: =IF(B14<K14,-1,IF(B14>L14,1,0)) -> 0 | J14: 451409 | K14: 419768.08 | L14: 483049.92
A15: De 60 años o más | B15: 478733 | C15: =B15-J15 -> 45969 | D15: =C15/J15*100 -> 10.622187 | E15: 0 | J15: 432764 | K15: 401992.1 | L15: 463535.9
A16: No especificado | B16: 1676 | C16: =B16-J16 -> 452 | D16: =C16/J16*100 -> 36.928105 | E16: 0 | J16: 1224 | K16: 0 | L16: 3173.096
A18: 2. Población de 15 años y más | B18: 2051694 | C18: =B18-J18 -> 24519 | D18: =C18/J18*100 -> 1.2095157 | E18: =IF(B18<K18,-1,IF(B18>L18,1,0)) -> 0 | J18: 2027175 | K18: 1957913.4 | L18: 2096436.6
A20: 2.1 Fuerza de trabajo | B20: 1458042 | C20: =B20-J20 -> 14312 | D20: =C20/J20*100 -> 0.99132109 | E20: =IF(B20<K20,-1,IF(B20>L20,1,0)) -> 0 | F20: =+B20-F21 -> 0 | G20: =+C20-G21 -> 0 | H20: =+B20/1000000 -> 1.458042 | I20: =+C20/1000 -> 14.312 | J20: 1443730 | K20: 1379219.6 | L20: 1508240.4
A21: Ocupada | B21: 1324644 | C21: =B21-J21 -> 79024 | D21: =C21/J21*100 -> 6.3441499 | E21: =IF(B21<K21,-1,IF(B21>L21,1,0)) -> 1 | F21: =SUM(B21:B22) -> 1458042 | G21: =SUM(C21:C22) -> 14312 | H21: =+B21/1000000 -> 1.324644 | I21: =+C21/1000 -> 79.024 | J21: 1245620 | K21: 1186406.8 | L21: 1304833.2
A22: Desempleada | B22: 133398 | C22: =B22-J22 -> -64712 | D22: =C22/J22*100 -> -32.664681 | E22: =IF(B22<K22,-1,IF(B22>L22,1,0)) -> -1 | H22: =+B22/1000 -> 133.398 | I22: =+C22/1000 -> -64.712 | J22: 198110 | K22: 170122.47 | L22: 226097.53
A24: 2.2 Fuera de la fuerza de trabajo | B24: 593652 | C24: =B24-J24 -> 10207 | D24: =C24/J24*100 -> 1.7494365 | E24: =IF(B24<K24,-1,IF(B24>L24,1,0)) -> 0 | H24: =+B24/1000 -> 593.652 | I24: =+C24/1000 -> 10.207 | J24: 583445 | K24: 548860.2 | L24: 618029.8
A26: 3. Población ocupada1/ | B26: 1324644 | C26: =B26-J26 -> 79024 | D26: =C26/J26*100 -> 6.3441499 | E26: =IF(B26<K26,-1,IF(B26>L26,1,0)) -> 1 | J26: 1245620 | K26: 1186406.8 | L26: 1304833.2
A28: 3.1 Grupo de edad | B28: 1324644 | C28: =B28-J28 -> 79024 | D28: =C28/J28*100 -> 6.3441499 | E28: =IF(B28<K28,-1,IF(B28>L28,1,0)) -> 1 | F28: =+B28-F29 -> 0 | G28: =+C28-G29 -> 0 | J28: 1245620 | K28: 1186406.8 | L28: 1304833.2
A29: De 15 a 24 años | B29: 147464 | C29: =B29-J29 -> 9302 | D29: =C29/J29*100 -> 6.7326761 | E29: =IF(B29<K29,-1,IF(B29>L29,1,0)) -> 0 | F29: =SUM(B29:B34) -> 1324644 | G29: =SUM(C29:C34) -> 79024 | J29: 138162 | K29: 119128.74 | L29: 157195.26
A30: De 25 a 34 años | B30: 337986 | C30: =B30-J30 -> 48759 | D30: =C30/J30*100 -> 16.858385 | E30: =IF(B30<K30,-1,IF(B30>L30,1,0)) -> 1 | J30: 289227 | K30: 262518.52 | L30: 315935.48
A31: De 35 a 44 años | B31: 291300 | C31: =B31-J31 -> -6865 | D31: =C31/J31*100 -> -2.3024164 | E31: =IF(B31<K31,-1,IF(B31>L31,1,0)) -> 0 | J31: 298165 | K31: 270489.76 | L31: 325840.24
A32: De 45 a 59 años | B32: 380516 | C32: =B32-J32 -> -2094 | D32: =C32/J32*100 -> -0.54729359 | E32: =IF(B32<K32,-1,IF(B32>L32,1,0)) -> 0 | J32: 382610 | K32: 351640.16 | L32: 413579.84
A33: De 60 años o más | B33: 167285 | C33: =B33-J33 -> 31053 | D33: =C33/J33*100 -> 22.794204 | E33: =IF(B33<K33,-1,IF(B33>L33,1,0)) -> 1 | J33: 136232 | K33: 117727.75 | L33: 154736.25
A34: No especificado | B34: 93 | C34: =B34-J34 -> -1131 | D34: =C34/J34*100 -> -92.401961 | E34: 0 | J34: 1224 | K34: 0 | L34: 3173.1194
A36: 3.2 Condición de aseguramiento2/ | B36: 1324644 | C36: =B36-J36 -> 79024 | D36: =C36/J36*100 -> 6.3441499 | E36: =IF(B36<K36,-1,IF(B36>L36,1,0)) -> 1 | F36: =+B36-F37 -> 0 | G36: =+C36-G37 -> 0 | J36: 1245620 | K36: 1186406.8 | L36: 1304833.2
A37: No tiene seguro por trabajo | B37: 389123 | C37: =B37-J37 -> 53454 | D37: =C37/J37*100 -> 15.924616 | E37: =IF(B37<K37,-1,IF(B37>L37,1,0)) -> 1 | F37: =SUM(B37:B38) -> 1324644 | G37: =SUM(C37:C38) -> 79024 | J37: 335669 | K37: 304493.4 | L37: 366844.6
A38: Tiene seguro por trabajo | B38: 935521 | C38: =B38-J38 -> 25570 | D38: =C38/J38*100 -> 2.8100414 | E38: =IF(B38<K38,-1,IF(B38>L38,1,0)) -> 0 | J38: 909951 | K38: 862235.92 | L38: 957666.08
A40: 3.3 Nivel de educación3/ | B40: 1324644 | C40: =B40-J40 -> 79024 | D40: =C40/J40*100 -> 6.3441499 | E40: =IF(B40<K40,-1,IF(B40>L40,1,0)) -> 1 | F40: =+B40-F41 -> 0 | G40: =+C40-G41 -> 0 | J40: 1245620 | K40: 1186406.8 | L40: 1304833.2
A41: Primaria incompleta o menos | B41: 112071 | C41: =B41-J41 -> -14442 | D41: =C41/J41*100 -> -11.415428 | E41: =IF(B41<K41,-1,IF(B41>L41,1,0)) -> 0 | F41: =SUM(B41:B47) -> 1324644 | G41: =SUM(C41:C47) -> 79024 | J41: 126513 | K41: 108905.35 | L41: 144120.65
A42: Primaria completa | B42: 340437 | C42: =B42-J42 -> 15157 | D42: =C42/J42*100 -> 4.6596778 | E42: =IF(B42<K42,-1,IF(B42>L42,1,0)) -> 0 | J42: 325280 | K42: 296525.29 | L42: 354034.71
A43: Secundaria incompleta | B43: 322816 | C43: =B43-J43 -> 68989 | D43: =C43/J43*100 -> 27.179536 | E43: =IF(B43<K43,-1,IF(B43>L43,1,0)) -> 1 | J43: 253827 | K43: 229361.56 | L43: 278292.44
A44: Secundaria completa | B44: 268440 | C44: =B44-J44 -> 45305 | D44: =C44/J44*100 -> 20.303852 | E44: =IF(B44<K44,-1,IF(B44>L44,1,0)) -> 1 | J44: 223135 | K44: 193951.77 | L44: 252318.23
A45: Universitario sin título | B45: 58166 | C45: =B45-J45 -> -19685 | D45: =C45/J45*100 -> -25.285481 | E45: =IF(B45<K45,-1,IF(B45>L45,1,0)) -> -1 | J45: 77851 | K45: 61788.442 | L45: 93913.558
A46: Universitario con título | B46: 221917 | C46: =B46-J46 -> -16475 | D46: =C46/J46*100 -> -6.9108863 | E46: =IF(B46<K46,-1,IF(B46>L46,1,0)) -> 0 | J46: 238392 | K46: 206876.46 | L46: 269907.54
A47: No especificado | B47: 797 | C47: =B47-J47 -> 175 | D47: =C47/J47*100 -> 28.135048 | E47: 0 | J47: 622 | K47: 117.09291 | L47: 1126.9071
A49: 3.4 Búsqueda para cambiar de trabajo4/ | B49: 1324644 | C49: =B49-J49 -> 79024 | D49: =C49/J49*100 -> 6.3441499 | E49: =IF(B49<K49,-1,IF(B49>L49,1,0)) -> 1 | F49: =+B49-F50 -> 0 | G49: =+C49-G50 -> 0 | J49: 1245620 | K49: 1186406.8 | L49: 1304833.2
A50: Ocupado que no busca cambiar de trabajo | B50: 1205261 | C50: =B50-J50 -> 88893 | D50: =C50/J50*100 -> 7.9626969 | E50: =IF(B50<K50,-1,IF(B50>L50,1,0)) -> 1 | F50: =SUM(B50:B51) -> 1324644 | G50: =SUM(C50:C51) -> 79024 | J50: 1116368 | K50: 1060638.4 | L50: 1172097.6
...

Sheet C1 mujer
A1: Cuadro 1
A2: Costa Rica mujeres: Población nacional según indicadores generales de la condición de actividad
A3: =+'C1 total'!A3:E3 -> II Trimestre 2022 | J3: Mismo trimestre año anterior
A4: Indicadores generales | B4: =+'C1 total'!B4 -> II 2022 | C4: Variación Interanual | E4: Resultado de la prueba de significancia | F4: Revisión totales y dif | H4: Para boletín | J4: Estimación | K4: Intervalo de confianza al 95%
B5: =+'C1 total'!B5 -> Abr - Jun | C5: Diferencia | D5: % | H5: Q | K5: Inferior | L5: Superior
A7: 1. Población total | B7: 2584247 | C7: =B7-J7 -> 26222 | D7: =C7/J7*100 -> 1.0250877 | E7: =IF(B7<K7,-1,IF(B7>L7,1,0)) -> 0 | J7: 2558025 | K7: 2470837.2 | L7: 2645212.8
A9: 1.1 Grupo de edad | B9: 2584247 | C9: =B9-J9 -> 26222 | D9: =C9/J9*100 -> 1.0250877 | E9: =IF(B9<K9,-1,IF(B9>L9,1,0)) -> 0 | F9: =+B9-F10 -> 0 | G9: =+C9-G10 -> 0 | J9: 2558025 | K9: 2470837.2 | L9: 2645212.8
A10: De 0 a 14 años | B10: 542147 | C10: =B10-J10 -> -200 | D10: =C10/J10*100 -> -0.03687676 | E10: =IF(B10<K10,-1,IF(B10>L10,1,0)) -> 0 | F10: =SUM(B10:B16) -> 2584247 | G10: =SUM(C10:C16) -> 26222 | J10: 542347 | K10: 492688.9 | L10: 592005.1
A11: De 15 a 24 años | B11: 363110 | C11: =B11-J11 -> 8688 | D11: =C11/J11*100 -> 2.4513151 | E11: =IF(B11<K11,-1,IF(B11>L11,1,0)) -> 0 | J11: 354422 | K11: 324150.89 | L11: 384693.11
A12: De 25 a 34 años | B12: 355999 | C12: =B12-J12 -> 501 | D12: =C12/J12*100 -> 0.14092906 | E12: =IF(B12<K12,-1,IF(B12>L12,1,0)) -> 0 | J12: 355498 | K12: 329354.01 | L12: 381641.99
A13: De 35 a 44 años | B13: 390937 | C13: =B13-J13 -> 33955 | D13: =C13/J13*100 -> 9.5116841 | E13: =IF(B13<K13,-1,IF(B13>L13,1,0)) -> 1 | J13: 356982 | K13: 328123.15 | L13: 385840.85
A14: De 45 a 59 años | B14: 454526 | C14: =B14-J14 -> -27417 | D14: =C14/J14*100 -> -5.688847 | E14: =IF(B14<K14,-1,IF(B14>L14,1,0)) -> 0 | J14: 481943 | K14: 451342.44 | L14: 512543.56
A15: De 60 años o más | B15: 477291 | C15: =B15-J15 -> 10738 | D15: =C15/J15*100 -> 2.3015606 | E15: 0 | J15: 466553 | K15: 428544.9 | L15: 504561.1
A16: No especificado | B16: 237 | C16: =B16-J16 -> -43 | D16: =C16/J16*100 -> -15.357143 | E16: 0 | J16: 280 | K16: 0 | L16: 600.5809
A18: 2. Población de 15 años y más | B18: 2042100 | C18: =B18-J18 -> 26422 | D18: =C18/J18*100 -> 1.3108244 | E18: =IF(B18<K18,-1,IF(B18>L18,1,0)) -> 0 | J18: 2015678 | K18: 1956133.7 | L18: 2075222.3
A20: 2.1 Fuerza de trabajo | B20: 980746 | C20: =B20-J20 -> 20912 | D20: =C20/J20*100 -> 2.1787101 | E20: =IF(B20<K20,-1,IF(B20>L20,1,0)) -> 0 | F20: =+B20-F21 -> 0 | G20: =+C20-G21 -> 0 | H20: =+B20/1000 -> 980.746 | I20: =+C20/1000 -> 20.912 | J20: 959834 | K20: 907729.85 | L20: 1011938.2
A21: Ocupada | B21: 829344 | C21: =B21-J21 -> 105601 | D21: =C21/J21*100 -> 14.590953 | E21: =IF(B21<K21,-1,IF(B21>L21,1,0)) -> 1 | F21: =SUM(B21:B22) -> 980746 | G21: =SUM(C21:C22) -> 20912 | H21: =+B21/1000 -> 829.344 | I21: =+C21/1000 -> 105.601 | J21: 723743 | K21: 675442.35 | L21: 772043.65
A22: Desempleada | B22: 151402 | C22: =B22-J22 -> -84689 | D22: =C22/J22*100 -> -35.871338 | E22: =IF(B22<K22,-1,IF(B22>L22,1,0)) -> -1 | H22: =+B22/1000 -> 151.402 | I22: =+C22/1000 -> -84.689 | J22: 236091 | K22: 204813.29 | L22: 267368.71
A24: 2.2 Fuera de la fuerza de trabajo | B24: 1061354 | C24: =B24-J24 -> 5510 | D24: =C24/J24*100 -> 0.5218574 | E24: =IF(B24<K24,-1,IF(B24>L24,1,0)) -> 0 | H24: =+B24/1000000 -> 1.061354 | I24: =+C24/1000 -> 5.51 | J24: 1055844 | K24: 1010852.1 | L24: 1100835.9
A26: 3. Población ocupada1/ | B26: 829344 | C26: =B26-J26 -> 105601 | D26: =C26/J26*100 -> 14.590953 | E26: =IF(B26<K26,-1,IF(B26>L26,1,0)) -> 1 | J26: 723743 | K26: 675442.35 | L26: 772043.65
A28: 3.1 Grupo de edad | B28: 829344 | C28: =B28-J28 -> 105601 | D28: =C28/J28*100 -> 14.590953 | E28: =IF(B28<K28,-1,IF(B28>L28,1,0)) -> 1 | F28: =+B28-F29 -> 0 | G28: =+C28-G29 -> #VALUE! | J28: 723743 | K28: 675442.35 | L28: 772043.65
A29: De 15 a 24 años | B29: 80809 | C29: =B29-J29 -> 2017 | D29: =C29/J29*100 -> 2.5599046 | E29: =IF(B29<K29,-1,IF(B29>L29,1,0)) -> 0 | F29: =SUM(B29:B34) -> 829344 | G29: =SUM(C29:C34) -> #VALUE! | J29: 78792 | K29: 63810.976 | L29: 93773.024
A30: De 25 a 34 años | B30: 224470 | C30: =B30-J30 -> 48205 | D30: =C30/J30*100 -> 27.348027 | E30: =IF(B30<K30,-1,IF(B30>L30,1,0)) -> 1 | J30: 176265 | K30: 155610.01 | L30: 196919.99
A31: De 35 a 44 años | B31: 236835 | C31: =B31-J31 -> 38331 | D31: =C31/J31*100 -> 19.309938 | E31: =IF(B31<K31,-1,IF(B31>L31,1,0)) -> 1 | J31: 198504 | K31: 176373.81 | L31: 220634.19
A32: De 45 a 59 años | B32: 227021 | C32: =B32-J32 -> 6752 | D32: =C32/J32*100 -> 3.0653428 | E32: =IF(B32<K32,-1,IF(B32>L32,1,0)) -> 0 | J32: 220269 | K32: 194713.43 | L32: 245824.57
A33: De 60 años o más | B33: 60051 | C33: =B33-J33 -> 10138 | D33: =C33/J33*100 -> 20.311342 | E33: =IF(B33<K33,-1,IF(B33>L33,1,0)) -> 0 | J33: 49913 | K33: 37790.243 | L33: 62035.757
A34: No especificado | B34: 158 | C34: =B34-J34 -> #VALUE! | D34: =C34/J34*100 -> #VALUE! | E34: 0 | J34: - | K34: - | L34: -
A36: 3.2 Condición de aseguramiento2/ | B36: 829344 | C36: =B36-J36 -> 105601 | D36: =C36/J36*100 -> 14.590953 | E36: =IF(B36<K36,-1,IF(B36>L36,1,0)) -> 1 | F36: =+B36-F37 -> 0 | G36: =+C36-G37 -> 0 | J36: 723743 | K36: 675442.35 | L36: 772043.65
A37: No tiene seguro por trabajo | B37: 273612 | C37: =B37-J37 -> 27727 | D37: =C37/J37*100 -> 11.27641 | E37: =IF(B37<K37,-1,IF(B37>L37,1,0)) -> 1 | F37: =SUM(B37:B38) -> 829344 | G37: =SUM(C37:C38) -> 105601 | J37: 245885 | K37: 220090.74 | L37: 271679.26
A38: Tiene seguro por trabajo | B38: 555732 | C38: =B38-J38 -> 77874 | D38: =C38/J38*100 -> 16.296473 | E38: =IF(B38<K38,-1,IF(B38>L38,1,0)) -> 1 | J38: 477858 | K38: 439002.94 | L38: 516713.06
A40: 3.3 Nivel de educación3/ | B40: 829344 | C40: =B40-J40 -> 105601 | D40: =C40/J40*100 -> 14.590953 | E40: =IF(B40<K40,-1,IF(B40>L40,1,0)) -> 1 | F40: =+B40-F41 -> 0 | G40: =+C40-G41 -> #VALUE! | J40: 723743 | K40: 675442.35 | L40: 772043.65
A41: Primaria incompleta o menos | B41: 40784 | C41: =B41-J41 -> -527 | D41: =C41/J41*100 -> -1.2756893 | E41: =IF(B41<K41,-1,IF(B41>L41,1,0)) -> 0 | F41: =SUM(B41:B47) -> 829344 | G41: =SUM(C41:C47) -> #VALUE! | J41: 41311 | K41: 31894.362 | L41: 50727.638
A42: Primaria completa | B42: 147329 | C42: =B42-J42 -> 23518 | D42: =C42/J42*100 -> 18.995081 | E42: =IF(B42<K42,-1,IF(B42>L42,1,0)) -> 1 | J42: 123811 | K42: 106498.65 | L42: 141123.35
A43: Secundaria incompleta | B43: 146876 | C43: =B43-J43 -> 7078 | D43: =C43/J43*100 -> 5.0630195 | E43: =IF(B43<K43,-1,IF(B43>L43,1,0)) -> 0 | J43: 139798 | K43: 117268.75 | L43: 162327.25
A44: Secundaria completa | B44: 177251 | C44: =B44-J44 -> 41481 | D44: =C44/J44*100 -> 30.552405 | E44: =IF(B44<K44,-1,IF(B44>L44,1,0)) -> 1 | J44: 135770 | K44: 112515.71 | L44: 159024.29
A45: Universitario sin título | B45: 45960 | C45: =B45-J45 -> 4850 | D45: =C45/J45*100 -> 11.797616 | E45: =IF(B45<K45,-1,IF(B45>L45,1,0)) -> 0 | J45: 41110 | K45: 30481.798 | L45: 51738.202
A46: Universitario con título | B46: 271048 | C46: =B46-J46 -> 29105 | D46: =C46/J46*100 -> 12.029693 | E46: =IF(B46<K46,-1,IF(B46>L46,1,0)) -> 0 | J46: 241943 | K46: 212757.42 | L46: 271128.58
A47: No especificado | B47: 96 | C47: =B47-J47 -> #VALUE! | D47: =C47/J47*100 -> #VALUE! | E47: 0 | J47: - | K47: - | L47: -
A49: 3.4 Búsqueda para cambiar de trabajo4/ | B49: 829344 | C49: =B49-J49 -> 105601 | D49: =C49/J49*100 -> 14.590953 | E49: =IF(B49<K49,-1,IF(B49>L49,1,0)) -> 1 | F49: =+B49-F50 -> 0 | G49: =+C49-G50 -> 0 | J49: 723743 | K49: 675442.35 | L49: 772043.65
A50: Ocupado que no busca cambiar de trabajo | B50: 757290 | C50: =B50-J50 -> 78113 | D50: =C50/J50*100 -> 11.501126 | E50: =IF(B50<K50,-1,IF(B50>L50,1,0)) -> 1 | F50: =SUM(B50:B51) -> 829344 | G50: =SUM(C50:C51) -> 105601 | J50: 679177 | K50: 632888.32 | L50: 725465.68
...

Sheet C2 total
A1: Cuadro 2
A2: Costa Rica: Población ocupada según características del empleo
A3: ='C1 total'!A3:E3 -> II Trimestre 2022 | H3: Mismo trimestre año anterior
A4: Características del empleo | B4: =+'C1 total'!B4 -> II 2022 | C4: Variación Interanual | E4: Resultado de la prueba de significancia | F4: Para boletín | H4: Estimación | I4: Intervalo de confianza al 95%
B5: =+'C1 total'!B5 -> Abr - Jun | C5: Diferencia | D5: % | F5: Q | I5: Inferior | J5: Superior
A7: 1. Rama de actividad | B7: 2153988 | C7: =B7-H7 -> 184625 | D7: =C7/H7*100 -> 9.3748588 | E7: =IF(B7<I7,-1,IF(B7>J7,1,0)) -> 1 | F7: =+B7/1000000 -> 2.153988 | G7: =+C7/1000 -> 184.625 | H7: 1969363 | I7: 1884248.4 | J7: 2054477.6
A9: 1.1 Sector primario | B9: 212337 | C9: =B9-H9 -> -9134 | D9: =C9/H9*100 -> -4.124242 | E9: =IF(B9<I9,-1,IF(B9>J9,1,0)) -> 0 | F9: =+B9/1000 -> 212.337 | G9: =+C9/1000 -> -9.134 | H9: 221471 | I9: 198779.53 | J9: 244162.47
A10: Agricultura, ganadería y pesca | B10: 212337 | C10: =B10-H10 -> -9134 | D10: =C10/H10*100 -> -4.124242 | E10: =IF(B10<I10,-1,IF(B10>J10,1,0)) -> 0 | H10: 221471 | I10: 198779.53 | J10: 244162.47
A12: 1.2 Sector secundario | B12: 408272 | C12: =B12-H12 -> 47141 | D12: =C12/H12*100 -> 13.053712 | E12: =IF(B12<I12,-1,IF(B12>J12,1,0)) -> 1 | F12: =+B12/1000 -> 408.272 | G12: =+C12/1000 -> 47.141 | H12: 361131 | I12: 323386.43 | J12: 398875.57
A13: Industria manufacturera | B13: 255924 | C13: =B13-H13 -> 60106 | D13: =C13/H13*100 -> 30.694829 | E13: =IF(B13<I13,-1,IF(B13>J13,1,0)) -> 1 | H13: 195818 | I13: 171073.05 | J13: 220562.95
A14: Construcción | B14: 125566 | C14: =B14-H14 -> -11284 | D14: =C14/H14*100 -> -8.2455243 | E14: =IF(B14<I14,-1,IF(B14>J14,1,0)) -> 0 | H14: 136850 | I14: 108140.96 | J14: 165559.04
A15: Otros1/ | B15: 26782 | C15: =B15-H15 -> -1681 | D15: =C15/H15*100 -> -5.9059129 | E15: =IF(B15<I15,-1,IF(B15>J15,1,0)) -> 0 | H15: 28463 | I15: 20664.551 | J15: 36261.449
A17: 1.3 Sector comercio y servicios | B17: 1527729 | C17: =B17-H17 -> 160595 | D17: =C17/H17*100 -> 11.746837 | E17: =IF(B17<I17,-1,IF(B17>J17,1,0)) -> 1 | F17: =+B17/1000000 -> 1.527729 | G17: =+C17/1000 -> 160.595 | H17: 1367134 | I17: 1298412.1 | J17: 1435855.9
A18: Comercio y reparación | B18: 384734 | C18: =B18-H18 -> 55096 | D18: =C18/H18*100 -> 16.714092 | E18: =IF(B18<I18,-1,IF(B18>J18,1,0)) -> 1 | F18: =+B18/1000 -> 384.734 | G18: =+C18/1000 -> 55.096 | H18: 329638 | I18: 296055.99 | J18: 363220.01
A19: Transporte y almacenamiento | B19: 104582 | C19: =B19-H19 -> -1405 | D19: =C19/H19*100 -> -1.3256343 | E19: =IF(B19<I19,-1,IF(B19>J19,1,0)) -> 0 | F19: =+B19/1000 -> 104.582 | G19: =+C19/1000 -> -1.405 | H19: 105987 | I19: 87159.747 | J19: 124814.25
A20: Hoteles y restaurantes | B20: 141321 | C20: =B20-H20 -> 8749 | D20: =C20/H20*100 -> 6.5994328 | E20: =IF(B20<I20,-1,IF(B20>J20,1,0)) -> 0 | F20: =+B20/1000 -> 141.321 | G20: =+C20/1000 -> 8.749 | H20: 132572 | I20: 110075.67 | J20: 155068.33
A21: Intermediación financiera y de seguros | B21: 40180 | C21: =B21-H21 -> -21060 | D21: =C21/H21*100 -> -34.389288 | E21: =IF(B21<I21,-1,IF(B21>J21,1,0)) -> -1 | F21: =+B21/1000 -> 40.18 | G21: =+C21/1000 -> -21.06 | H21: 61240 | I21: 45349.151 | J21: 77130.849
A22: Actividades profesionales y administrativas de apoyo | B22: 202192 | C22: =B22-H22 -> 33798 | D22: =C22/H22*100 -> 20.070786 | E22: =IF(B22<I22,-1,IF(B22>J22,1,0)) -> 1 | F22: =+B22/1000 -> 202.192 | G22: =+C22/1000 -> 33.798 | H22: 168394 | I22: 142542.54 | J22: 194245.46
A23: Administración pública | B23: 80303 | C23: =B23-H23 -> -3920 | D23: =C23/H23*100 -> -4.6543106 | E23: =IF(B23<I23,-1,IF(B23>J23,1,0)) -> 0 | F23: =+B23/1000 -> 80.303 | G23: =+C23/1000 -> -3.92 | H23: 84223 | I23: 65384.305 | J23: 103061.7
A24: Enseñanza y salud | B24: 227037 | C24: =B24-H24 -> 37325 | D24: =C24/H24*100 -> 19.674559 | E24: =IF(B24<I24,-1,IF(B24>J24,1,0)) -> 1 | F24: =+B24/1000 -> 227.037 | G24: =+C24/1000 -> 37.325 | H24: 189712 | I24: 167809.29 | J24: 211614.71
A25: Comunicación y otros servicios2/ | B25: 213611 | C25: =B25-H25 -> 29278 | D25: =C25/H25*100 -> 15.883211 | E25: =IF(B25<I25,-1,IF(B25>J25,1,0)) -> 1 | F25: =+B25/1000 -> 213.611 | G25: =+C25/1000 -> 29.278 | H25: 184333 | I25: 160426.93 | J25: 208239.07
A26: Hogares como empleadores | B26: 133769 | C26: =B26-H26 -> 22734 | D26: =C26/H26*100 -> 20.474625 | E26: =IF(B26<I26,-1,IF(B26>J26,1,0)) -> 1 | F26: =+B26/1000 -> 133.769 | G26: =+C26/1000 -> 22.734 | H26: 111035 | I26: 92367.906 | J26: 129702.09
A28: 1.4 No especificado | B28: 5650 | C28: =B28-H28 -> -13977 | D28: =C28/H28*100 -> -71.213125 | E28: 0 | H28: 19627 | I28: 9163.032 | J28: 30090.968
A30: 2. Grupo ocupacional | B30: 2153988 | C30: =B30-H30 -> 184625 | D30: =C30/H30*100 -> 9.3748588 | E30: =IF(B30<I30,-1,IF(B30>J30,1,0)) -> 1 | H30: 1969363 | I30: 1884248.4 | J30: 2054477.6
A32: Directores y Gerentes | B32: 17151 | C32: =B32-H32 -> 1431 | D32: =C32/H32*100 -> 9.1030534 | E32: =IF(B32<I32,-1,IF(B32>J32,1,0)) -> 0 | H32: 15720 | I32: 8347.4205 | J32: 23092.579
A33: Profesionales, científicos e intelectuales | B33: 236075 | C33: =B33-H33 -> -5408 | D33: =C33/H33*100 -> -2.2394951 | E33: =IF(B33<I33,-1,IF(B33>J33,1,0)) -> 0 | H33: 241483 | I33: 207792.03 | J33: 275173.97
A34: Técnicos y profesionales de nivel medio | B34: 236194 | C34: =B34-H34 -> 18762 | D34: =C34/H34*100 -> 8.6289047 | E34: =IF(B34<I34,-1,IF(B34>J34,1,0)) -> 0 | H34: 217432 | I34: 188527.18 | J34: 246336.82
A35: Personal de apoyo administrativo | B35: 166664 | C35: =B35-H35 -> 24356 | D35: =C35/H35*100 -> 17.11499 | E35: =IF(B35<I35,-1,IF(B35>J35,1,0)) -> 1 | H35: 142308 | I35: 122813.84 | J35: 161802.16
A36: Trabajadores de los servicios y vendedores de comercios y mercados | B36: 470728 | C36: =B36-H36 -> 66675 | D36: =C36/H36*100 -> 16.501548 | E36: =IF(B36<I36,-1,IF(B36>J36,1,0)) -> 1 | H36: 404053 | I36: 370222.88 | J36: 437883.12
A37: Agricultores y trabajadores calificados agropecuarios, forestales y pesqueros | B37: 60560 | C37: =B37-H37 -> -8997 | D37: =C37/H37*100 -> -12.934715 | E37: =IF(B37<I37,-1,IF(B37>J37,1,0)) -> 0 | H37: 69557 | I37: 59291.064 | J37: 79822.936
A38: Oficiales, operarios y artesanos de artes mecánicas y de otros oficios | B38: 275740 | C38: =B38-H38 -> 40908 | D38: =C38/H38*100 -> 17.420113 | E38: =IF(B38<I38,-1,IF(B38>J38,1,0)) -> 1 | H38: 234832 | I38: 206940.01 | J38: 262723.99
A39: Operadores de instalaciones y máquinas y ensambladores | B39: 164520 | C39: =B39-H39 -> 13578 | D39: =C39/H39*100 -> 8.9955082 | E39: =IF(B39<I39,-1,IF(B39>J39,1,0)) -> 0 | H39: 150942 | I39: 130350.18 | J39: 171533.82
A40: Ocupaciones elementales | B40: 510860 | C40: =B40-H40 -> 35833 | D40: =C40/H40*100 -> 7.5433607 | E40: =IF(B40<I40,-1,IF(B40>J40,1,0)) -> 0 | H40: 475027 | I40: 435348.59 | J40: 514705.41
A41: No especificado | B41: 15496 | C41: =B41-H41 -> -2513 | D41: =C41/H41*100 -> -13.954134 | E41: 0 | H41: 18009 | I41: 9205.8725 | J41: 26812.127
A43: 3. Calificación del grupo ocupacional | B43: 2153988 | C43: =B43-H43 -> 184625 | D43: =C43/H43*100 -> 9.3748588 | E43: =IF(B43<I43,-1,IF(B43>J43,1,0)) -> 1 | H43: 1969363 | I43: 1884248.4 | J43: 2054477.6
A45: Ocupación calificada alta3/ | B45: 489420 | C45: =B45-H45 -> 14785 | D45: =C45/H45*100 -> 3.1150252 | E45: =IF(B45<I45,-1,IF(B45>J45,1,0)) -> 0 | F45: =+B45/1000 -> 489.42 | G45: =+B45/$B$43*100 -> 22.721575 | H45: 474635 | I45: 427349.05 | J45: 521920.95
A46: Ocupación calificada media4/ | B46: 1138212 | C46: =B46-H46 -> 136520 | D46: =C46/H46*100 -> 13.62894 | E46: =IF(B46<I46,-1,IF(B46>J46,1,0)) -> 1 | F46: =+B46/1000000 -> 1.138212 | G46: =+B46/$B$43*100 -> 52.842077 | H46: 1001692 | I46: 949305.65 | J46: 1054078.3
A47: Ocupación no calificada | B47: 510860 | C47: =B47-H47 -> 35833 | D47: =C47/H47*100 -> 7.5433607 | E47: =IF(B47<I47,-1,IF(B47>J47,1,0)) -> 0 | F47: =+B47/1000 -> 510.86 | G47: =+B47/$B$43*100 -> 23.716938 | H47: 475027 | I47: 435348.59 | J47: 514705.41
A48: No especificado | B48: 15496 | C48: =B48-H48 -> -2513 | D48: =C48/H48*100 -> -13.954134 | E48: 0 | H48: 18009 | I48: 9205.8725 | J48: 26812.127
A50: 4. Sector institucional | B50: 2153988 | C50: =B50-H50 -> 184625 | D50: =C50/H50*100 -> 9.3748588 | E50: =IF(B50<I50,-1,IF(B50>J50,1,0)) -> 1 | H50: 1969363 | I50: 1884248.4 | J50: 2054477.6
...

Sheet C2 urbano
A1: Cuadro 2.1
A2: Costa Rica zona urbana: Población ocupada según características del empleo
A3: =+'C2 total'!A3:E3 -> II Trimestre 2022 | H3: Mismo trimestre año anterior
A4: Características del empleo | B4: =+'C2 total'!B4 -> II 2022 | C4: Variación Interanual | E4: Resultado de la prueba de significancia | F4: Para boletín | H4: Estimación | I4: Intervalo de confianza al 95%
B5: =+'C2 total'!B5 -> Abr - Jun | C5: Diferencia | D5: % | F5: Q | I5: Inferior | J5: Superior
A7: 1. Rama de actividad | B7: 1603797 | C7: =B7-H7 -> 136457 | D7: =C7/H7*100 -> 9.299617 | E7: =IF(B7<I7,-1,IF(B7>J7,1,0)) -> 1 | F7: =+B7/1000000 -> 1.603797 | G7: =+C7/1000 -> 136.457 | H7: 1467340 | I7: 1384124.8 | J7: 1550555.2
A9: 1.1 Sector primario | B9: 52476 | C9: =B9-H9 -> -8510 | D9: =C9/H9*100 -> -13.954022 | E9: =IF(B9<I9,-1,IF(B9>J9,1,0)) -> 0 | F9: =+B9/1000 -> 52.476 | G9: =+C9/1000 -> -8.51 | H9: 60986 | I9: 44286.607 | J9: 77685.393
A10: Agricultura, ganadería y pesca | B10: 52476 | C10: =B10-H10 -> -8510 | D10: =C10/H10*100 -> -13.954022 | E10: =IF(B10<I10,-1,IF(B10>J10,1,0)) -> 0 | H10: 60986 | I10: 44286.607 | J10: 77685.393
A12: 1.2 Sector secundario | B12: 321764 | C12: =B12-H12 -> 35471 | D12: =C12/H12*100 -> 12.389755 | E12: =IF(B12<I12,-1,IF(B12>J12,1,0)) -> 0 | F12: =+B12/1000 -> 321.764 | G12: =+C12/1000 -> 35.471 | H12: 286293 | I12: 249449.28 | J12: 323136.72
A13: Industria manufacturera | B13: 211970 | C13: =B13-H13 -> 52019 | D13: =C13/H13*100 -> 32.521835 | E13: =IF(B13<I13,-1,IF(B13>J13,1,0)) -> 1 | H13: 159951 | I13: 135934.27 | J13: 183967.73
A14: Construcción | B14: 90767 | C14: =B14-H14 -> -14655 | D14: =C14/H14*100 -> -13.901273 | E14: =IF(B14<I14,-1,IF(B14>J14,1,0)) -> 0 | H14: 105422 | I14: 77148.773 | J14: 133695.23
A15: Otros1/ | B15: 19027 | C15: =B15-H15 -> -1893 | D15: =C15/H15*100 -> -9.0487572 | E15: =IF(B15<I15,-1,IF(B15>J15,1,0)) -> 0 | H15: 20920 | I15: 13441.803 | J15: 28398.197
A17: 1.3 Sector comercio y servicios | B17: 1224612 | C17: =B17-H17 -> 123071 | D17: =C17/H17*100 -> 11.172621 | E17: =IF(B17<I17,-1,IF(B17>J17,1,0)) -> 1 | F17: =+B17/1000000 -> 1.224612 | G17: =+C17/1000 -> 123.071 | H17: 1101541 | I17: 1034913.7 | J17: 1168168.3
A18: Comercio y reparación | B18: 311614 | C18: =B18-H18 -> 49280 | D18: =C18/H18*100 -> 18.785213 | E18: =IF(B18<I18,-1,IF(B18>J18,1,0)) -> 1 | F18: =+B18/1000 -> 311.614 | G18: =+C18/1000 -> 49.28 | H18: 262334 | I18: 229641.88 | J18: 295026.12
A19: Transporte y almacenamiento | B19: 84943 | C19: =B19-H19 -> -1805 | D19: =C19/H19*100 -> -2.0807396 | E19: =IF(B19<I19,-1,IF(B19>J19,1,0)) -> 0 | F19: =+B19/1000 -> 84.943 | G19: =+C19/1000 -> -1.805 | H19: 86748 | I19: 68211.89 | J19: 105284.11
A20: Hoteles y restaurantes | B20: 106127 | C20: =B20-H20 -> 5764 | D20: =C20/H20*100 -> 5.7431524 | E20: =IF(B20<I20,-1,IF(B20>J20,1,0)) -> 0 | F20: =+B20/1000 -> 106.127 | G20: =+C20/1000 -> 5.764 | H20: 100363 | I20: 78355.393 | J20: 122370.61
A21: Intermediación financiera y de seguros | B21: 36474 | C21: =B21-H21 -> -21186 | D21: =C21/H21*100 -> -36.742976 | E21: =IF(B21<I21,-1,IF(B21>J21,1,0)) -> -1 | F21: =+B21/1000 -> 36.474 | G21: =+C21/1000 -> -21.186 | H21: 57660 | I21: 41831.09 | J21: 73488.91
A22: Actividades profesionales y administrativas de apoyo | B22: 171385 | C22: =B22-H22 -> 32556 | D22: =C22/H22*100 -> 23.450432 | E22: =IF(B22<I22,-1,IF(B22>J22,1,0)) -> 1 | F22: =+B22/1000 -> 171.385 | G22: =+C22/1000 -> 32.556 | H22: 138829 | I22: 113378 | J22: 164280
A23: Administración pública | B23: 65152 | C23: =B23-H23 -> 63 | D23: =C23/H23*100 -> 0.096790548 | E23: =IF(B23<I23,-1,IF(B23>J23,1,0)) -> 0 | F23: =+B23/1000 -> 65.152 | G23: =+C23/1000 -> 0.063 | H23: 65089 | I23: 46631.889 | J23: 83546.111
A24: Enseñanza y salud | B24: 182583 | C24: =B24-H24 -> 29950 | D24: =C24/H24*100 -> 19.622231 | E24: =IF(B24<I24,-1,IF(B24>J24,1,0)) -> 1 | F24: =+B24/1000 -> 182.583 | G24: =+C24/1000 -> 29.95 | H24: 152633 | I24: 131280.06 | J24: 173985.94
A25: Comunicación y otros servicios2/ | B25: 173604 | C25: =B25-H25 -> 17423 | D25: =C25/H25*100 -> 11.155646 | E25: =IF(B25<I25,-1,IF(B25>J25,1,0)) -> 0 | F25: =+B25/1000 -> 173.604 | G25: =+C25/1000 -> 17.423 | H25: 156181 | I25: 132629.95 | J25: 179732.05
A26: Hogares como empleadores | B26: 92730 | C26: =B26-H26 -> 11026 | D26: =C26/H26*100 -> 13.495055 | E26: =IF(B26<I26,-1,IF(B26>J26,1,0)) -> 0 | F26: =+B26/1000 -> 92.73 | G26: =+C26/1000 -> 11.026 | H26: 81704 | I26: 63598.882 | J26: 99809.118
A28: 1.4 No especificado | B28: 4945 | C28: =B28-H28 -> -13575 | D28: =C28/H28*100 -> -73.299136 | E28: 0 | H28: 18520 | I28: 8085.6884 | J28: 28954.312
A30: 2. Grupo ocupacional | B30: 1603797 | C30: =B30-H30 -> 136457 | D30: =C30/H30*100 -> 9.299617 | E30: =IF(B30<I30,-1,IF(B30>J30,1,0)) -> 1 | H30: 1467340 | I30: 1384124.8 | J30: 1550555.2
A32: Directores y Gerentes | B32: 15359 | C32: =B32-H32 -> 1839 | D32: =C32/H32*100 -> 13.602071 | E32: =IF(B32<I32,-1,IF(B32>J32,1,0)) -> 0 | H32: 13520 | I32: 6220.5282 | J32: 20819.472
A33: Profesionales, científicos e intelectuales | B33: 201184 | C33: =B33-H33 -> -9157 | D33: =C33/H33*100 -> -4.3534071 | E33: =IF(B33<I33,-1,IF(B33>J33,1,0)) -> 0 | H33: 210341 | I33: 177013.44 | J33: 243668.56
A34: Técnicos y profesionales de nivel medio | B34: 203193 | C34: =B34-H34 -> 11176 | D34: =C34/H34*100 -> 5.820318 | E34: =IF(B34<I34,-1,IF(B34>J34,1,0)) -> 0 | H34: 192017 | I34: 163472.44 | J34: 220561.56
A35: Personal de apoyo administrativo | B35: 141272 | C35: =B35-H35 -> 21866 | D35: =C35/H35*100 -> 18.312313 | E35: =IF(B35<I35,-1,IF(B35>J35,1,0)) -> 1 | H35: 119406 | I35: 100277.62 | J35: 138534.38
A36: Trabajadores de los servicios y vendedores de comercios y mercados | B36: 365750 | C36: =B36-H36 -> 48623 | D36: =C36/H36*100 -> 15.332343 | E36: =IF(B36<I36,-1,IF(B36>J36,1,0)) -> 1 | H36: 317127 | I36: 284147.81 | J36: 350106.19
A37: Agricultores y trabajadores calificados agropecuarios, forestales y pesqueros | B37: 14027 | C37: =B37-H37 -> -3693 | D37: =C37/H37*100 -> -20.840858 | E37: =IF(B37<I37,-1,IF(B37>J37,1,0)) -> 0 | H37: 17720 | I37: 10464.267 | J37: 24975.733
A38: Oficiales, operarios y artesanos de artes mecánicas y de otros oficios | B38: 220103 | C38: =B38-H38 -> 39637 | D38: =C38/H38*100 -> 21.963694 | E38: =IF(B38<I38,-1,IF(B38>J38,1,0)) -> 1 | H38: 180466 | I38: 153264.48 | J38: 207667.52
A39: Operadores de instalaciones y máquinas y ensambladores | B39: 127903 | C39: =B39-H39 -> 13297 | D39: =C39/H39*100 -> 11.602359 | E39: =IF(B39<I39,-1,IF(B39>J39,1,0)) -> 0 | H39: 114606 | I39: 94622.44 | J39: 134589.56
A40: Ocupaciones elementales | B40: 300361 | C40: =B40-H40 -> 14763 | D40: =C40/H40*100 -> 5.1691538 | E40: =IF(B40<I40,-1,IF(B40>J40,1,0)) -> 0 | H40: 285598 | I40: 247854.61 | J40: 323341.39
A41: No especificado | B41: 14645 | C41: =B41-H41 -> -1894 | D41: =C41/H41*100 -> -11.45172 | E41: 0 | H41: 16539 | I41: 7799.5485 | J41: 25278.452
A43: 3. Calificación del grupo ocupacional | B43: 1603797 | C43: =B43-H43 -> 136457 | D43: =C43/H43*100 -> 9.299617 | E43: =IF(B43<I43,-1,IF(B43>J43,1,0)) -> 1 | H43: 1467340 | I43: 1384124.8 | J43: 1550555.2
A45: Ocupación calificada alta3/ | B45: 419736 | C45: =B45-H45 -> 3858 | D45: =C45/H45*100 -> 0.9276759 | E45: =IF(B45<I45,-1,IF(B45>J45,1,0)) -> 0 | F45: =+B45/1000 -> 419.736 | G45: =+C45/1000 -> 3.858 | H45: 415878 | I45: 369243.69 | J45: 462512.31
A46: Ocupación calificada media4/ | B46: 869055 | C46: =B46-H46 -> 119730 | D46: =C46/H46*100 -> 15.978381 | E46: =IF(B46<I46,-1,IF(B46>J46,1,0)) -> 1 | F46: =+B46/1000 -> 869.055 | G46: =+C46/1000 -> 119.73 | H46: 749325 | I46: 698335.96 | J46: 800314.04
A47: Ocupación no calificada | B47: 300361 | C47: =B47-H47 -> 14763 | D47: =C47/H47*100 -> 5.1691538 | E47: =IF(B47<I47,-1,IF(B47>J47,1,0)) -> 0 | F47: =+B47/1000 -> 300.361 | G47: =+C47/1000 -> 14.763 | H47: 285598 | I47: 247854.61 | J47: 323341.39
A48: No especificado | B48: 14645 | C48: =B48-H48 -> -1894 | D48: =C48/H48*100 -> -11.45172 | E48: 0 | H48: 16539 | I48: 7799.5485 | J48: 25278.452
A50: 4. Sector institucional | B50: 1603797 | C50: =B50-H50 -> 136457 | D50: =C50/H50*100 -> 9.299617 | E50: =IF(B50<I50,-1,IF(B50>J50,1,0)) -> 1 | H50: 1467340 | I50: 1384124.8 | J50: 1550555.2
...

Sheet C2 rural
A1: Cuadro 2.2
A2: Costa Rica zona rural: Población ocupada según características del empleo
A3: =+'C2 urbano'!A3:E3 -> II Trimestre 2022 | H3: Mismo trimestre año anterior
A4: Características del empleo | B4: =+'C2 urbano'!B4 -> II 2022 | C4: Variación Interanual | E4: Resultado de la prueba de significancia | F4: Para boletín | H4: Estimación | I4: Intervalo de confianza al 95%
B5: =+'C2 urbano'!B5 -> Abr - Jun | C5: Diferencia | D5: % | F5: Q | I5: Inferior | J5: Superior
A7: 1. Rama de actividad | B7: 550191 | C7: =B7-H7 -> 48168 | D7: =C7/H7*100 -> 9.5947795 | E7: =IF(B7<I7,-1,IF(B7>J7,1,0)) -> 1 | F7: =+B7/1000 -> 550.191 | G7: =+C7/1000 -> 48.168 | H7: 502023 | I7: 484142.16 | J7: 519903.84
A9: 1.1 Sector primario | B9: 159861 | C9: =B9-H9 -> -624 | D9: =C9/H9*100 -> -0.38882139 | E9: =IF(B9<I9,-1,IF(B9>J9,1,0)) -> 0 | F9: =+B9/1000 -> 159.861 | G9: =+C9/1000 -> -0.624 | H9: 160485 | I9: 145068.91 | J9: 175901.09
A10: Agricultura, ganadería y pesca | B10: 159861 | C10: =B10-H10 -> -624 | D10: =C10/H10*100 -> -0.38882139 | E10: =IF(B10<I10,-1,IF(B10>J10,1,0)) -> 0 | H10: 160485 | I10: 145068.91 | J10: 175901.09
A12: 1.2 Sector secundario | B12: 86508 | C12: =B12-H12 -> 11670 | D12: =C12/H12*100 -> 15.593682 | E12: =IF(B12<I12,-1,IF(B12>J12,1,0)) -> 1 | F12: =+B12/1000 -> 86.508 | G12: =+C12/1000 -> 11.67 | H12: 74838 | I12: 66426.655 | J12: 83249.345
A13: Industria manufacturera | B13: 43954 | C13: =B13-H13 -> 8087 | D13: =C13/H13*100 -> 22.547188 | E13: =IF(B13<I13,-1,IF(B13>J13,1,0)) -> 1 | H13: 35867 | I13: 29780.199 | J13: 41953.801
A14: Construcción | B14: 34799 | C14: =B14-H14 -> 3371 | D14: =C14/H14*100 -> 10.726104 | E14: =IF(B14<I14,-1,IF(B14>J14,1,0)) -> 0 | H14: 31428 | I14: 26244.407 | J14: 36611.593
A15: Otros1/ | B15: 7755 | C15: =B15-H15 -> 212 | D15: =C15/H15*100 -> 2.8105528 | E15: =IF(B15<I15,-1,IF(B15>J15,1,0)) -> 0 | H15: 7543 | I15: 5296.3393 | J15: 9789.6607
A17: 1.3 Sector comercio y servicios | B17: 303117 | C17: =B17-H17 -> 37524 | D17: =C17/H17*100 -> 14.128384 | E17: =IF(B17<I17,-1,IF(B17>J17,1,0)) -> 1 | F17: =+B17/1000 -> 303.117 | G17: =+C17/1000 -> 37.524 | H17: 265593 | I17: 248405.71 | J17: 282780.29
